BEGIN:VCALENDAR
VERSION:2.0
PRODID:-//Triatlon Romania - ECPv6.15.20//NONSGML v1.0//EN
CALSCALE:GREGORIAN
METHOD:PUBLISH
X-ORIGINAL-URL:https://triatlonromania.ro
X-WR-CALDESC:Evenimente pentru Triatlon Romania
REFRESH-INTERVAL;VALUE=DURATION:PT1H
X-Robots-Tag:noindex
X-PUBLISHED-TTL:PT1H
BEGIN:VTIMEZONE
TZID:Europe/Bucharest
BEGIN:DAYLIGHT
TZOFFSETFROM:+0200
TZOFFSETTO:+0300
TZNAME:EEST
DTSTART:20230326T010000
END:DAYLIGHT
BEGIN:STANDARD
TZOFFSETFROM:+0300
TZOFFSETTO:+0200
TZNAME:EET
DTSTART:20231029T010000
END:STANDARD
BEGIN:DAYLIGHT
TZOFFSETFROM:+0200
TZOFFSETTO:+0300
TZNAME:EEST
DTSTART:20240331T010000
END:DAYLIGHT
BEGIN:STANDARD
TZOFFSETFROM:+0300
TZOFFSETTO:+0200
TZNAME:EET
DTSTART:20241027T010000
END:STANDARD
BEGIN:DAYLIGHT
TZOFFSETFROM:+0200
TZOFFSETTO:+0300
TZNAME:EEST
DTSTART:20250330T010000
END:DAYLIGHT
BEGIN:STANDARD
TZOFFSETFROM:+0300
TZOFFSETTO:+0200
TZNAME:EET
DTSTART:20251026T010000
END:STANDARD
END:VTIMEZONE
BEGIN:VEVENT
DTSTART;TZID=Europe/Bucharest:20240427T000000
DTEND;TZID=Europe/Bucharest:20240428T235959
DTSTAMP:20260426T005310
CREATED:20231114T220246Z
LAST-MODIFIED:20231114T220246Z
UID:24017-1714176000-1714348799@triatlonromania.ro
SUMMARY:CN Triatlon SuperSprint Bazin 2024
DESCRIPTION:00Zile00Ore00Minute\n\n\n\n\n\n\n\n\n\nCompetitie de Triatlon
URL:https://triatlonromania.ro/eveniment/cn-triatlon-supersprint-bazin-2024-2/
LOCATION:Izvorani\, Complex Sportiv Nicolae Navasart\, Izvorani\, Ilfov\, Romania
CATEGORIES:Campionat National,Eveniment National
ATTACH;FMTTYPE=image/webp:https://triatlonromania.ro/wp-content/uploads/2023/11/CN-Triatlon-Supersprint-Bazin-2024.webp
END:VEVENT
BEGIN:VEVENT
DTSTART;TZID=Europe/Bucharest:20240427T000000
DTEND;TZID=Europe/Bucharest:20240428T235959
DTSTAMP:20260426T005310
CREATED:20231114T220246Z
LAST-MODIFIED:20240419T134425Z
UID:20131-1714176000-1714348799@triatlonromania.ro
SUMMARY:CN Triatlon SuperSprint Bazin 2024
DESCRIPTION:00Zile00Ore00Minute\n\n\n\n\n\n\n\n\n\nCompetitie de Triatlon
URL:https://triatlonromania.ro/eveniment/cn-triatlon-supersprint-bazin-2024/
LOCATION:Izvorani\, Complex Sportiv Nicolae Navasart\, Izvorani\, Ilfov\, Romania
CATEGORIES:Campionat National,Eveniment National
ATTACH;FMTTYPE=image/webp:https://triatlonromania.ro/wp-content/uploads/2023/11/CN-Triatlon-Supersprint-Bazin-2024.webp
END:VEVENT
END:VCALENDAR