BEGIN:VCALENDAR
VERSION:2.0
PRODID:-//Triatlon Romania - ECPv6.15.20//NONSGML v1.0//EN
CALSCALE:GREGORIAN
METHOD:PUBLISH
X-ORIGINAL-URL:https://triatlonromania.ro
X-WR-CALDESC:Evenimente pentru Triatlon Romania
REFRESH-INTERVAL;VALUE=DURATION:PT1H
X-Robots-Tag:noindex
X-PUBLISHED-TTL:PT1H
BEGIN:VTIMEZONE
TZID:Europe/Bucharest
BEGIN:DAYLIGHT
TZOFFSETFROM:+0200
TZOFFSETTO:+0300
TZNAME:EEST
DTSTART:20230326T010000
END:DAYLIGHT
BEGIN:STANDARD
TZOFFSETFROM:+0300
TZOFFSETTO:+0200
TZNAME:EET
DTSTART:20231029T010000
END:STANDARD
BEGIN:DAYLIGHT
TZOFFSETFROM:+0200
TZOFFSETTO:+0300
TZNAME:EEST
DTSTART:20240331T010000
END:DAYLIGHT
BEGIN:STANDARD
TZOFFSETFROM:+0300
TZOFFSETTO:+0200
TZNAME:EET
DTSTART:20241027T010000
END:STANDARD
BEGIN:DAYLIGHT
TZOFFSETFROM:+0200
TZOFFSETTO:+0300
TZNAME:EEST
DTSTART:20250330T010000
END:DAYLIGHT
BEGIN:STANDARD
TZOFFSETFROM:+0300
TZOFFSETTO:+0200
TZNAME:EET
DTSTART:20251026T010000
END:STANDARD
END:VTIMEZONE
BEGIN:VEVENT
DTSTART;TZID=Europe/Bucharest:20240601T000000
DTEND;TZID=Europe/Bucharest:20240601T235959
DTSTAMP:20260425T185631
CREATED:20231114T231052Z
LAST-MODIFIED:20231114T231052Z
UID:24022-1717200000-1717286399@triatlonromania.ro
SUMMARY:Unstoppable Triatlon Pantelimon 2024
DESCRIPTION:00Zile00Ore00Minute\n\n\n\n\n\n\n\n\n\nCompetitie de Triatlon
URL:https://triatlonromania.ro/eveniment/unstoppable-triatlon-pantelimon-2024-2/
LOCATION:Bucuresti\, Bucuresti\, Bucuresti\, Romania
CATEGORIES:Eveniment National
ATTACH;FMTTYPE=image/webp:https://triatlonromania.ro/wp-content/uploads/2023/11/Unstoppable-Triatlon-Pantelimon-2024.webp
ORGANIZER;CN="Unstoppable Sport Club":MAILTO:contact@unstoppablesport.club
END:VEVENT
BEGIN:VEVENT
DTSTART;TZID=Europe/Bucharest:20240601T000000
DTEND;TZID=Europe/Bucharest:20240601T235959
DTSTAMP:20260425T185631
CREATED:20231114T231052Z
LAST-MODIFIED:20240403T164000Z
UID:20158-1717200000-1717286399@triatlonromania.ro
SUMMARY:Unstoppable Triatlon Pantelimon 2024
DESCRIPTION:00Zile00Ore00Minute\n\n\n\n\n\n\n\n\n\nCompetitie de Triatlon
URL:https://triatlonromania.ro/eveniment/unstoppable-triatlon-pantelimon-2024/
LOCATION:Bucuresti\, Bucuresti\, Bucuresti\, Romania
CATEGORIES:Eveniment National
ATTACH;FMTTYPE=image/webp:https://triatlonromania.ro/wp-content/uploads/2023/11/Unstoppable-Triatlon-Pantelimon-2024.webp
ORGANIZER;CN="Unstoppable Sport Club":MAILTO:contact@unstoppablesport.club
END:VEVENT
BEGIN:VEVENT
DTSTART;TZID=Europe/Bucharest:20240601T000000
DTEND;TZID=Europe/Bucharest:20240601T235959
DTSTAMP:20260425T185631
CREATED:20231114T231816Z
LAST-MODIFIED:20231114T231816Z
UID:24023-1717200000-1717286399@triatlonromania.ro
SUMMARY:CR Triatlon Supersprint - in cadrul Unstoppable Triatlon Pantelimon 2024
DESCRIPTION:00Zile00Ore00Minute\n\n\n\n\n\n\n\n\n\nCompetitie de Triatlon
URL:https://triatlonromania.ro/eveniment/cr-triatlon-supersprint-2024-2/
LOCATION:Bucuresti\, Bucuresti\, Bucuresti\, Romania
CATEGORIES:Cupa Romaniei,Eveniment National
ATTACH;FMTTYPE=image/webp:https://triatlonromania.ro/wp-content/uploads/2023/11/CR-Triatlon-Supersprint-2024.webp
ORGANIZER;CN="Unstoppable Sport Club":MAILTO:contact@unstoppablesport.club
END:VEVENT
BEGIN:VEVENT
DTSTART;TZID=Europe/Bucharest:20240601T000000
DTEND;TZID=Europe/Bucharest:20240601T235959
DTSTAMP:20260425T185631
CREATED:20231114T231816Z
LAST-MODIFIED:20240403T164100Z
UID:20162-1717200000-1717286399@triatlonromania.ro
SUMMARY:CR Triatlon Supersprint - in cadrul Unstoppable Triatlon Pantelimon 2024
DESCRIPTION:00Zile00Ore00Minute\n\n\n\n\n\n\n\n\n\nCompetitie de Triatlon
URL:https://triatlonromania.ro/eveniment/cr-triatlon-supersprint-2024/
LOCATION:Bucuresti\, Bucuresti\, Bucuresti\, Romania
CATEGORIES:Cupa Romaniei,Eveniment National
ATTACH;FMTTYPE=image/webp:https://triatlonromania.ro/wp-content/uploads/2023/11/CR-Triatlon-Supersprint-2024.webp
ORGANIZER;CN="Unstoppable Sport Club":MAILTO:contact@unstoppablesport.club
END:VEVENT
BEGIN:VEVENT
DTSTART;TZID=Europe/Bucharest:20240601T000000
DTEND;TZID=Europe/Bucharest:20240601T235959
DTSTAMP:20260425T185631
CREATED:20231114T232209Z
LAST-MODIFIED:20231114T232209Z
UID:24024-1717200000-1717286399@triatlonromania.ro
SUMMARY:CR Triatlon Stafeta Mixta - in cadrul Unstoppable Triatlon Pantelimon 2024
DESCRIPTION:00Zile00Ore00Minute\n\n\n\n\n\n\n\n\n\nCompetitie de Triatlon
URL:https://triatlonromania.ro/eveniment/cr-triatlon-stafeta-mixta-2024-2/
LOCATION:Bucuresti\, Bucuresti\, Bucuresti\, Romania
CATEGORIES:Cupa Romaniei,Eveniment National
ATTACH;FMTTYPE=image/webp:https://triatlonromania.ro/wp-content/uploads/2023/11/CR-Triatlon-Stafeta-Mixta-2024.webp
ORGANIZER;CN="Unstoppable Sport Club":MAILTO:contact@unstoppablesport.club
END:VEVENT
BEGIN:VEVENT
DTSTART;TZID=Europe/Bucharest:20240601T000000
DTEND;TZID=Europe/Bucharest:20240601T235959
DTSTAMP:20260425T185631
CREATED:20231114T232209Z
LAST-MODIFIED:20240403T164146Z
UID:20166-1717200000-1717286399@triatlonromania.ro
SUMMARY:CR Triatlon Stafeta Mixta - in cadrul Unstoppable Triatlon Pantelimon 2024
DESCRIPTION:00Zile00Ore00Minute\n\n\n\n\n\n\n\n\n\nCompetitie de Triatlon
URL:https://triatlonromania.ro/eveniment/cr-triatlon-stafeta-mixta-2024/
LOCATION:Bucuresti\, Bucuresti\, Bucuresti\, Romania
CATEGORIES:Cupa Romaniei,Eveniment National
ATTACH;FMTTYPE=image/webp:https://triatlonromania.ro/wp-content/uploads/2023/11/CR-Triatlon-Stafeta-Mixta-2024.webp
ORGANIZER;CN="Unstoppable Sport Club":MAILTO:contact@unstoppablesport.club
END:VEVENT
BEGIN:VEVENT
DTSTART;TZID=Europe/Bucharest:20240601T000000
DTEND;TZID=Europe/Bucharest:20240601T235959
DTSTAMP:20260425T185631
CREATED:20231114T232444Z
LAST-MODIFIED:20240403T164223Z
UID:20170-1717200000-1717286399@triatlonromania.ro
SUMMARY:TRIKids Cros Triatlon - in cadrul Unstoppable Triatlon Pantelimon 2024
DESCRIPTION:00Zile00Ore00Minute\n\n\n\n\n\n\n\n\n\nCompetitie de Triatlon
URL:https://triatlonromania.ro/eveniment/trikids-cros-triatlon-2024/
LOCATION:Bucuresti\, Bucuresti\, Bucuresti\, Romania
CATEGORIES:Etapa TRIKids,Eveniment National
ATTACH;FMTTYPE=image/webp:https://triatlonromania.ro/wp-content/uploads/2021/12/TriKids-logo-2022-wide.webp
ORGANIZER;CN="Unstoppable Sport Club":MAILTO:contact@unstoppablesport.club
END:VEVENT
BEGIN:VEVENT
DTSTART;TZID=Europe/Bucharest:20240601T000000
DTEND;TZID=Europe/Bucharest:20240601T235959
DTSTAMP:20260425T185631
CREATED:20231114T232444Z
LAST-MODIFIED:20231114T232444Z
UID:24025-1717200000-1717286399@triatlonromania.ro
SUMMARY:TRIKids Cros Triatlon - in cadrul Unstoppable Triatlon Pantelimon 2024
DESCRIPTION:00Zile00Ore00Minute\n\n\n\n\n\n\n\n\n\nCompetitie de Triatlon
URL:https://triatlonromania.ro/eveniment/trikids-cros-triatlon-2024-3/
LOCATION:Bucuresti\, Bucuresti\, Bucuresti\, Romania
CATEGORIES:Etapa TRIKids,Eveniment National
ATTACH;FMTTYPE=image/webp:https://triatlonromania.ro/wp-content/uploads/2021/12/TriKids-logo-2022-wide.webp
ORGANIZER;CN="Unstoppable Sport Club":MAILTO:contact@unstoppablesport.club
END:VEVENT
END:VCALENDAR