BEGIN:VCALENDAR
VERSION:2.0
PRODID:-//Triatlon Romania - ECPv6.15.20//NONSGML v1.0//EN
CALSCALE:GREGORIAN
METHOD:PUBLISH
X-WR-CALNAME:Triatlon Romania
X-ORIGINAL-URL:https://triatlonromania.ro
X-WR-CALDESC:Evenimente pentru Triatlon Romania
REFRESH-INTERVAL;VALUE=DURATION:PT1H
X-Robots-Tag:noindex
X-PUBLISHED-TTL:PT1H
BEGIN:VTIMEZONE
TZID:Europe/Bucharest
BEGIN:DAYLIGHT
TZOFFSETFROM:+0200
TZOFFSETTO:+0300
TZNAME:EEST
DTSTART:20230326T010000
END:DAYLIGHT
BEGIN:STANDARD
TZOFFSETFROM:+0300
TZOFFSETTO:+0200
TZNAME:EET
DTSTART:20231029T010000
END:STANDARD
BEGIN:DAYLIGHT
TZOFFSETFROM:+0200
TZOFFSETTO:+0300
TZNAME:EEST
DTSTART:20240331T010000
END:DAYLIGHT
BEGIN:STANDARD
TZOFFSETFROM:+0300
TZOFFSETTO:+0200
TZNAME:EET
DTSTART:20241027T010000
END:STANDARD
BEGIN:DAYLIGHT
TZOFFSETFROM:+0200
TZOFFSETTO:+0300
TZNAME:EEST
DTSTART:20250330T010000
END:DAYLIGHT
BEGIN:STANDARD
TZOFFSETFROM:+0300
TZOFFSETTO:+0200
TZNAME:EET
DTSTART:20251026T010000
END:STANDARD
END:VTIMEZONE
BEGIN:VEVENT
DTSTART;TZID=Europe/Bucharest:20240602T000000
DTEND;TZID=Europe/Bucharest:20240602T235959
DTSTAMP:20260425T171052
CREATED:20231114T233158Z
LAST-MODIFIED:20231114T233158Z
UID:24026-1717286400-1717372799@triatlonromania.ro
SUMMARY:Velo Crosul Castanilor\, Duatlon & Duatlon-Ciclocros Open 2024
DESCRIPTION:00Zile00Ore00Minute\n\n\n\n\n\n\n\n\n\nCompetitie de Duatlon
URL:https://triatlonromania.ro/eveniment/velo-crosul-castanilor-2024-3/
LOCATION:Floresti\, Domeniul Cantacuzino\, Floresti\, Prahova\, Romania
CATEGORIES:Eveniment National
ATTACH;FMTTYPE=image/webp:https://triatlonromania.ro/wp-content/uploads/2023/11/Velocrosul-Castanilor-logo.webp
ORGANIZER;CN="2BE":MAILTO:contact@2-be.ro
END:VEVENT
BEGIN:VEVENT
DTSTART;TZID=Europe/Bucharest:20240602T000000
DTEND;TZID=Europe/Bucharest:20240602T235959
DTSTAMP:20260425T171052
CREATED:20231114T233158Z
LAST-MODIFIED:20240403T164312Z
UID:20173-1717286400-1717372799@triatlonromania.ro
SUMMARY:Velo Crosul Castanilor\, Duatlon & Duatlon-Ciclocros Open 2024
DESCRIPTION:00Zile00Ore00Minute\n\n\n\n\n\n\n\n\n\nCompetitie de Duatlon
URL:https://triatlonromania.ro/eveniment/velo-crosul-castanilor-2024/
LOCATION:Floresti\, Domeniul Cantacuzino\, Floresti\, Prahova\, Romania
CATEGORIES:Eveniment National
ATTACH;FMTTYPE=image/webp:https://triatlonromania.ro/wp-content/uploads/2023/11/Velocrosul-Castanilor-logo.webp
ORGANIZER;CN="2BE":MAILTO:contact@2-be.ro
END:VEVENT
BEGIN:VEVENT
DTSTART;TZID=Europe/Bucharest:20240602T000000
DTEND;TZID=Europe/Bucharest:20240602T235959
DTSTAMP:20260425T171052
CREATED:20231114T233837Z
LAST-MODIFIED:20231114T233837Z
UID:24027-1717286400-1717372799@triatlonromania.ro
SUMMARY:CR Cros Duatlon - in cadrul Velo Crosul Castanilor 2024
DESCRIPTION:00Zile00Ore00Minute\n\n\n\n\n\nCompetitie de Duatlon
URL:https://triatlonromania.ro/eveniment/cr-cros-duatlon-2024-2/
LOCATION:Floresti\, Domeniul Cantacuzino\, Floresti\, Prahova\, Romania
CATEGORIES:Cupa Romaniei,Eveniment National
ATTACH;FMTTYPE=image/webp:https://triatlonromania.ro/wp-content/uploads/2023/11/CR-Cros-Duatlon-2024.webp
ORGANIZER;CN="2BE":MAILTO:contact@2-be.ro
END:VEVENT
BEGIN:VEVENT
DTSTART;TZID=Europe/Bucharest:20240602T000000
DTEND;TZID=Europe/Bucharest:20240602T235959
DTSTAMP:20260425T171052
CREATED:20231114T233837Z
LAST-MODIFIED:20240403T164354Z
UID:20178-1717286400-1717372799@triatlonromania.ro
SUMMARY:CR Cros Duatlon - in cadrul Velo Crosul Castanilor 2024
DESCRIPTION:00Zile00Ore00Minute\n\n\n\n\n\nCompetitie de Duatlon
URL:https://triatlonromania.ro/eveniment/cr-cros-duatlon-2024/
LOCATION:Floresti\, Domeniul Cantacuzino\, Floresti\, Prahova\, Romania
CATEGORIES:Cupa Romaniei,Eveniment National
ATTACH;FMTTYPE=image/webp:https://triatlonromania.ro/wp-content/uploads/2023/11/CR-Cros-Duatlon-2024.webp
ORGANIZER;CN="2BE":MAILTO:contact@2-be.ro
END:VEVENT
BEGIN:VEVENT
DTSTART;TZID=Europe/Bucharest:20240602T000000
DTEND;TZID=Europe/Bucharest:20240602T235959
DTSTAMP:20260425T171052
CREATED:20240521T103754Z
LAST-MODIFIED:20240521T103754Z
UID:24061-1717286400-1717372799@triatlonromania.ro
SUMMARY:Binder Lake Triathlon 2024
DESCRIPTION:00Zile00Ore00Minute\n\n\n\n\n\n\n\n\n\n\n\nCompetitie de Triatlon individual și stafeta
URL:https://triatlonromania.ro/eveniment/binder-lake-triathlon-2024-2/
LOCATION:Sibiu\, Lacul Binder\, Sibiu\, Romania
CATEGORIES:Eveniment National
ATTACH;FMTTYPE=image/webp:https://triatlonromania.ro/wp-content/uploads/2024/05/Binder-Lake-Triathlon-2024-01.webp
ORGANIZER;CN="Master Ski & Bike":MAILTO:masterskibikeclub@yahoo.com
END:VEVENT
BEGIN:VEVENT
DTSTART;TZID=Europe/Bucharest:20240602T000000
DTEND;TZID=Europe/Bucharest:20240602T235959
DTSTAMP:20260425T171052
CREATED:20240521T103754Z
LAST-MODIFIED:20240521T105020Z
UID:21356-1717286400-1717372799@triatlonromania.ro
SUMMARY:Binder Lake Triathlon 2024
DESCRIPTION:00Zile00Ore00Minute\n\n\n\n\n\n\n\n\n\n\n\nCompetitie de Triatlon individual și stafeta
URL:https://triatlonromania.ro/eveniment/binder-lake-triathlon-2024/
LOCATION:Sibiu\, Lacul Binder\, Sibiu\, Romania
CATEGORIES:Eveniment National
ATTACH;FMTTYPE=image/webp:https://triatlonromania.ro/wp-content/uploads/2024/05/Binder-Lake-Triathlon-2024-01.webp
ORGANIZER;CN="Master Ski & Bike":MAILTO:masterskibikeclub@yahoo.com
END:VEVENT
END:VCALENDAR