BEGIN:VCALENDAR
VERSION:2.0
PRODID:-//Triatlon Romania - ECPv6.15.20//NONSGML v1.0//EN
CALSCALE:GREGORIAN
METHOD:PUBLISH
X-ORIGINAL-URL:https://triatlonromania.ro
X-WR-CALDESC:Evenimente pentru Triatlon Romania
REFRESH-INTERVAL;VALUE=DURATION:PT1H
X-Robots-Tag:noindex
X-PUBLISHED-TTL:PT1H
BEGIN:VTIMEZONE
TZID:Europe/Bucharest
BEGIN:DAYLIGHT
TZOFFSETFROM:+0200
TZOFFSETTO:+0300
TZNAME:EEST
DTSTART:20230326T010000
END:DAYLIGHT
BEGIN:STANDARD
TZOFFSETFROM:+0300
TZOFFSETTO:+0200
TZNAME:EET
DTSTART:20231029T010000
END:STANDARD
BEGIN:DAYLIGHT
TZOFFSETFROM:+0200
TZOFFSETTO:+0300
TZNAME:EEST
DTSTART:20240331T010000
END:DAYLIGHT
BEGIN:STANDARD
TZOFFSETFROM:+0300
TZOFFSETTO:+0200
TZNAME:EET
DTSTART:20241027T010000
END:STANDARD
BEGIN:DAYLIGHT
TZOFFSETFROM:+0200
TZOFFSETTO:+0300
TZNAME:EEST
DTSTART:20250330T010000
END:DAYLIGHT
BEGIN:STANDARD
TZOFFSETFROM:+0300
TZOFFSETTO:+0200
TZNAME:EET
DTSTART:20251026T010000
END:STANDARD
END:VTIMEZONE
BEGIN:VEVENT
DTSTART;TZID=Europe/Bucharest:20240615T000000
DTEND;TZID=Europe/Bucharest:20240616T235959
DTSTAMP:20260425T190509
CREATED:20231115T004507Z
LAST-MODIFIED:20231115T004507Z
UID:24032-1718409600-1718582399@triatlonromania.ro
SUMMARY:Cupa Europeana Triatlon Juniori 2024
DESCRIPTION:00Zile00Ore00Minute\n\n\n\n\n\n\n\n\n\nCompetitie de Triatlon
URL:https://triatlonromania.ro/eveniment/cupa-europeana-triatlon-juniori-2024-2/
LOCATION:Izvorani\, Complex Sportiv Nicolae Navasart\, Izvorani\, Ilfov\, Romania
CATEGORIES:Cupa Europeana Juniori,Eveniment International
ATTACH;FMTTYPE=image/webp:https://triatlonromania.ro/wp-content/uploads/2023/11/CE-Triatlon-Juniori-2024.webp
ORGANIZER;CN="Federa%C8%9Bia Rom%C3%A2n%C4%83 de Triatlon":MAILTO:office@triatlonromania.ro
END:VEVENT
BEGIN:VEVENT
DTSTART;TZID=Europe/Bucharest:20240615T000000
DTEND;TZID=Europe/Bucharest:20240616T235959
DTSTAMP:20260425T190509
CREATED:20231115T004507Z
LAST-MODIFIED:20240403T164938Z
UID:20217-1718409600-1718582399@triatlonromania.ro
SUMMARY:Cupa Europeana Triatlon Juniori 2024
DESCRIPTION:00Zile00Ore00Minute\n\n\n\n\n\n\n\n\n\nCompetitie de Triatlon
URL:https://triatlonromania.ro/eveniment/cupa-europeana-triatlon-juniori-2024/
LOCATION:Izvorani\, Complex Sportiv Nicolae Navasart\, Izvorani\, Ilfov\, Romania
CATEGORIES:Cupa Europeana Juniori,Eveniment International
ATTACH;FMTTYPE=image/webp:https://triatlonromania.ro/wp-content/uploads/2023/11/CE-Triatlon-Juniori-2024.webp
ORGANIZER;CN="Federa%C8%9Bia Rom%C3%A2n%C4%83 de Triatlon":MAILTO:office@triatlonromania.ro
END:VEVENT
END:VCALENDAR