BEGIN:VCALENDAR
VERSION:2.0
PRODID:-//Triatlon Romania - ECPv6.15.20//NONSGML v1.0//EN
CALSCALE:GREGORIAN
METHOD:PUBLISH
X-WR-CALNAME:Triatlon Romania
X-ORIGINAL-URL:https://triatlonromania.ro
X-WR-CALDESC:Evenimente pentru Triatlon Romania
REFRESH-INTERVAL;VALUE=DURATION:PT1H
X-Robots-Tag:noindex
X-PUBLISHED-TTL:PT1H
BEGIN:VTIMEZONE
TZID:Europe/Bucharest
BEGIN:DAYLIGHT
TZOFFSETFROM:+0200
TZOFFSETTO:+0300
TZNAME:EEST
DTSTART:20230326T010000
END:DAYLIGHT
BEGIN:STANDARD
TZOFFSETFROM:+0300
TZOFFSETTO:+0200
TZNAME:EET
DTSTART:20231029T010000
END:STANDARD
BEGIN:DAYLIGHT
TZOFFSETFROM:+0200
TZOFFSETTO:+0300
TZNAME:EEST
DTSTART:20240331T010000
END:DAYLIGHT
BEGIN:STANDARD
TZOFFSETFROM:+0300
TZOFFSETTO:+0200
TZNAME:EET
DTSTART:20241027T010000
END:STANDARD
BEGIN:DAYLIGHT
TZOFFSETFROM:+0200
TZOFFSETTO:+0300
TZNAME:EEST
DTSTART:20250330T010000
END:DAYLIGHT
BEGIN:STANDARD
TZOFFSETFROM:+0300
TZOFFSETTO:+0200
TZNAME:EET
DTSTART:20251026T010000
END:STANDARD
END:VTIMEZONE
BEGIN:VEVENT
DTSTART;TZID=Europe/Bucharest:20240721T000000
DTEND;TZID=Europe/Bucharest:20240721T235959
DTSTAMP:20260422T144224
CREATED:20231115T135430Z
LAST-MODIFIED:20240403T165636Z
UID:20262-1721520000-1721606399@triatlonromania.ro
SUMMARY:TRIKids Duatlon Sosea - in cadrul Timisoara Triathlon 2024
DESCRIPTION:00Zile00Ore00Minute\n\n\n\n\n\n\n\n\n\nCompetitie de Triatlon
URL:https://triatlonromania.ro/eveniment/trikids-duatlon-sosea-2024/
LOCATION:Timisoara\, Timisoara\, Timis\, Romania
CATEGORIES:Eveniment National
ATTACH;FMTTYPE=image/webp:https://triatlonromania.ro/wp-content/uploads/2021/12/TriKids-logo-2022-wide.webp
ORGANIZER;CN="ACS Ride Competition":MAILTO:info@timisoaratriathlon.ro
END:VEVENT
BEGIN:VEVENT
DTSTART;TZID=Europe/Bucharest:20240721T000000
DTEND;TZID=Europe/Bucharest:20240721T235959
DTSTAMP:20260422T144224
CREATED:20231115T135430Z
LAST-MODIFIED:20231115T135430Z
UID:24041-1721520000-1721606399@triatlonromania.ro
SUMMARY:TRIKids Duatlon Sosea - in cadrul Timisoara Triathlon 2024
DESCRIPTION:00Zile00Ore00Minute\n\n\n\n\n\n\n\n\n\nCompetitie de Triatlon
URL:https://triatlonromania.ro/eveniment/trikids-duatlon-sosea-2024-2/
LOCATION:Timisoara\, Timisoara\, Timis\, Romania
CATEGORIES:Eveniment National
ATTACH;FMTTYPE=image/webp:https://triatlonromania.ro/wp-content/uploads/2021/12/TriKids-logo-2022-wide.webp
ORGANIZER;CN="ACS Ride Competition":MAILTO:info@timisoaratriathlon.ro
END:VEVENT
END:VCALENDAR