BEGIN:VCALENDAR
VERSION:2.0
PRODID:-//Triatlon Romania - ECPv6.15.20//NONSGML v1.0//EN
CALSCALE:GREGORIAN
METHOD:PUBLISH
X-ORIGINAL-URL:https://triatlonromania.ro
X-WR-CALDESC:Evenimente pentru Triatlon Romania
REFRESH-INTERVAL;VALUE=DURATION:PT1H
X-Robots-Tag:noindex
X-PUBLISHED-TTL:PT1H
BEGIN:VTIMEZONE
TZID:Europe/Bucharest
BEGIN:DAYLIGHT
TZOFFSETFROM:+0200
TZOFFSETTO:+0300
TZNAME:EEST
DTSTART:20230326T010000
END:DAYLIGHT
BEGIN:STANDARD
TZOFFSETFROM:+0300
TZOFFSETTO:+0200
TZNAME:EET
DTSTART:20231029T010000
END:STANDARD
BEGIN:DAYLIGHT
TZOFFSETFROM:+0200
TZOFFSETTO:+0300
TZNAME:EEST
DTSTART:20240331T010000
END:DAYLIGHT
BEGIN:STANDARD
TZOFFSETFROM:+0300
TZOFFSETTO:+0200
TZNAME:EET
DTSTART:20241027T010000
END:STANDARD
BEGIN:DAYLIGHT
TZOFFSETFROM:+0200
TZOFFSETTO:+0300
TZNAME:EEST
DTSTART:20250330T010000
END:DAYLIGHT
BEGIN:STANDARD
TZOFFSETFROM:+0300
TZOFFSETTO:+0200
TZNAME:EET
DTSTART:20251026T010000
END:STANDARD
END:VTIMEZONE
BEGIN:VEVENT
DTSTART;TZID=Europe/Bucharest:20241026T000000
DTEND;TZID=Europe/Bucharest:20241026T235959
DTSTAMP:20260421T151430
CREATED:20231115T183220Z
LAST-MODIFIED:20231115T210911Z
UID:20325-1729900800-1729987199@triatlonromania.ro
SUMMARY:CN Cros Duatlon 2024
DESCRIPTION:00Days00Hours00Minutes00Seconds\n\n\n\n\n\n\n\n\n\n \n\n\n\nCompetitie de Cros Duatlon
URL:https://triatlonromania.ro/eveniment/cn-cros-duatlon-2024/
LOCATION:Iarcuri Cornesti\, Timis\, Romania
CATEGORIES:Campionat National,Eveniment National
ATTACH;FMTTYPE=image/webp:https://triatlonromania.ro/wp-content/uploads/2023/11/CN-Cros-Duatlon-2024.webp
ORGANIZER;CN="ACS Ride Competition":MAILTO:info@timisoaratriathlon.ro
END:VEVENT
BEGIN:VEVENT
DTSTART;TZID=Europe/Bucharest:20241026T000000
DTEND;TZID=Europe/Bucharest:20241026T235959
DTSTAMP:20260421T151430
CREATED:20231115T183220Z
LAST-MODIFIED:20231115T183220Z
UID:24051-1729900800-1729987199@triatlonromania.ro
SUMMARY:CN Cros Duatlon 2024
DESCRIPTION:00Days00Hours00Minutes00Seconds\n\n\n\n\n\n\n\n\n\n \n\n\n\nCompetitie de Cros Duatlon
URL:https://triatlonromania.ro/eveniment/cn-cros-duatlon-2024-2/
LOCATION:Iarcuri Cornesti\, Timis\, Romania
CATEGORIES:Campionat National,Eveniment National
ATTACH;FMTTYPE=image/webp:https://triatlonromania.ro/wp-content/uploads/2023/11/CN-Cros-Duatlon-2024.webp
ORGANIZER;CN="ACS Ride Competition":MAILTO:info@timisoaratriathlon.ro
END:VEVENT
BEGIN:VEVENT
DTSTART;TZID=Europe/Bucharest:20241026T000000
DTEND;TZID=Europe/Bucharest:20241026T235959
DTSTAMP:20260421T151430
CREATED:20231115T183533Z
LAST-MODIFIED:20231115T183533Z
UID:24052-1729900800-1729987199@triatlonromania.ro
SUMMARY:TRIKids Cros Duatlon - in cadrul CN Cros Duatlon 2024
DESCRIPTION:00Days00Hours00Minutes00Seconds\n\n\n\n\n\n\n\n\n\n \n\n\n\nCompetitie de Cros Duatlon
URL:https://triatlonromania.ro/eveniment/trikids-cros-duatlon-cornesti-2024-2/
LOCATION:Iarcuri Cornesti\, Timis\, Romania
CATEGORIES:Etapa TRIKids,Eveniment National
ATTACH;FMTTYPE=image/webp:https://triatlonromania.ro/wp-content/uploads/2021/12/TriKids-logo-2022-wide.webp
ORGANIZER;CN="ACS Ride Competition":MAILTO:info@timisoaratriathlon.ro
END:VEVENT
BEGIN:VEVENT
DTSTART;TZID=Europe/Bucharest:20241026T000000
DTEND;TZID=Europe/Bucharest:20241026T235959
DTSTAMP:20260421T151430
CREATED:20231115T183533Z
LAST-MODIFIED:20231115T210931Z
UID:20329-1729900800-1729987199@triatlonromania.ro
SUMMARY:TRIKids Cros Duatlon - in cadrul CN Cros Duatlon 2024
DESCRIPTION:00Days00Hours00Minutes00Seconds\n\n\n\n\n\n\n\n\n\n \n\n\n\nCompetitie de Cros Duatlon
URL:https://triatlonromania.ro/eveniment/trikids-cros-duatlon-cornesti-2024/
LOCATION:Iarcuri Cornesti\, Timis\, Romania
CATEGORIES:Etapa TRIKids,Eveniment National
ATTACH;FMTTYPE=image/webp:https://triatlonromania.ro/wp-content/uploads/2021/12/TriKids-logo-2022-wide.webp
ORGANIZER;CN="ACS Ride Competition":MAILTO:info@timisoaratriathlon.ro
END:VEVENT
END:VCALENDAR