BEGIN:VCALENDAR
VERSION:2.0
PRODID:-//Triatlon Romania - ECPv6.15.20//NONSGML v1.0//EN
CALSCALE:GREGORIAN
METHOD:PUBLISH
X-ORIGINAL-URL:https://triatlonromania.ro
X-WR-CALDESC:Evenimente pentru Triatlon Romania
REFRESH-INTERVAL;VALUE=DURATION:PT1H
X-Robots-Tag:noindex
X-PUBLISHED-TTL:PT1H
BEGIN:VTIMEZONE
TZID:Europe/Bucharest
BEGIN:DAYLIGHT
TZOFFSETFROM:+0200
TZOFFSETTO:+0300
TZNAME:EEST
DTSTART:20250330T010000
END:DAYLIGHT
BEGIN:STANDARD
TZOFFSETFROM:+0300
TZOFFSETTO:+0200
TZNAME:EET
DTSTART:20251026T010000
END:STANDARD
BEGIN:DAYLIGHT
TZOFFSETFROM:+0200
TZOFFSETTO:+0300
TZNAME:EEST
DTSTART:20260329T010000
END:DAYLIGHT
BEGIN:STANDARD
TZOFFSETFROM:+0300
TZOFFSETTO:+0200
TZNAME:EET
DTSTART:20261025T010000
END:STANDARD
BEGIN:DAYLIGHT
TZOFFSETFROM:+0200
TZOFFSETTO:+0300
TZNAME:EEST
DTSTART:20270328T010000
END:DAYLIGHT
BEGIN:STANDARD
TZOFFSETFROM:+0300
TZOFFSETTO:+0200
TZNAME:EET
DTSTART:20271031T010000
END:STANDARD
END:VTIMEZONE
BEGIN:VEVENT
DTSTART;VALUE=DATE:20260418
DTEND;VALUE=DATE:20260419
DTSTAMP:20260421T151306
CREATED:20251217T214743Z
LAST-MODIFIED:20260316T104230Z
UID:24102-1776470400-1776556799@triatlonromania.ro
SUMMARY:CN Duatlon Sprint 2026
DESCRIPTION: • Tip competitie: Duatlon Sprint\n • Organizator: Federația Română de Triatlon & Seven Club\n • WebSite: sevensportclub.ro\n • Locatie: Divertiland Park\, Chiajna\, Ilfov\n • Harta: maps.app.goo.gl/ZhsKnmyq32UiyjkEA \n 
URL:https://triatlonromania.ro/eveniment/cn-duatlon-2026/
CATEGORIES:Campionat National
ATTACH;FMTTYPE=image/webp:https://triatlonromania.ro/wp-content/uploads/2025/12/triro-cn-divertiland-2026.webp
END:VEVENT
BEGIN:VEVENT
DTSTART;VALUE=DATE:20260418
DTEND;VALUE=DATE:20260419
DTSTAMP:20260421T151306
CREATED:20251217T215559Z
LAST-MODIFIED:20251217T215559Z
UID:23543-1776470400-1776556799@triatlonromania.ro
SUMMARY:Divertiland TriKIDS Duatlon by Seven 2026
DESCRIPTION: • Tip competitie: Duatlon • Organizator: Federația Română de Triatlon & Seven Club • WebSite: sevensportclub.ro • Locatie: Divertiland Park\, Chiajna\, Ilfov • Harta: maps.app.goo.gl/p1eaUFcguB23nSCc8
URL:https://triatlonromania.ro/eveniment/divertiland-trikids-duatlon-by-seven-2026/
CATEGORIES:Etapa TRIKids
ATTACH;FMTTYPE=image/webp:https://triatlonromania.ro/wp-content/uploads/2025/12/TriKids-Divertiland-Seven.webp
END:VEVENT
BEGIN:VEVENT
DTSTART;VALUE=DATE:20260418
DTEND;VALUE=DATE:20260419
DTSTAMP:20260421T151306
CREATED:20260316T104356Z
LAST-MODIFIED:20260316T104356Z
UID:25315-1776470400-1776556799@triatlonromania.ro
SUMMARY:CN Duatlon SuperSprint Cadeti 2026
DESCRIPTION: • Tip competitie: Duatlon SuperSprint Cadeti\n • Organizator: Federația Română de Triatlon & Seven Club\n • WebSite: sevensportclub.ro\n • Locatie: Divertiland Park\, Chiajna\, Ilfov\n • Harta: maps.app.goo.gl/ZhsKnmyq32UiyjkEA \n 
URL:https://triatlonromania.ro/eveniment/cn-duatlon-supersprint-cadeti-2026/
CATEGORIES:Campionat National
ATTACH;FMTTYPE=image/webp:https://triatlonromania.ro/wp-content/uploads/2025/12/triro-cn-divertiland-2026.webp
END:VEVENT
BEGIN:VEVENT
DTSTART;VALUE=DATE:20260418
DTEND;VALUE=DATE:20260419
DTSTAMP:20260421T151306
CREATED:20251217T214225Z
LAST-MODIFIED:20251217T214225Z
UID:24101-1776470400-1776556799@triatlonromania.ro
SUMMARY:Divertiland Duatlon by Seven 2026
DESCRIPTION: • Tip competitie: Duatlon Sprint • Organizator: Seven Club • WebSite: sevensportclub.ro • Locatie: Divertiland Park\, Chiajna\, Ilfov • Harta: maps.app.goo.gl/p1eaUFcguB23nSCc8
URL:https://triatlonromania.ro/eveniment/divertiland-duatlon-by-seven-2026/
CATEGORIES:Eveniment National
ATTACH;FMTTYPE=image/webp:https://triatlonromania.ro/wp-content/uploads/2025/12/Divertiland-logo-720.webp
END:VEVENT
END:VCALENDAR