BEGIN:VCALENDAR
VERSION:2.0
PRODID:-//Triatlon Romania - ECPv6.15.20//NONSGML v1.0//EN
CALSCALE:GREGORIAN
METHOD:PUBLISH
X-ORIGINAL-URL:https://triatlonromania.ro
X-WR-CALDESC:Evenimente pentru Triatlon Romania
REFRESH-INTERVAL;VALUE=DURATION:PT1H
X-Robots-Tag:noindex
X-PUBLISHED-TTL:PT1H
BEGIN:VTIMEZONE
TZID:Europe/Bucharest
BEGIN:DAYLIGHT
TZOFFSETFROM:+0200
TZOFFSETTO:+0300
TZNAME:EEST
DTSTART:20250330T010000
END:DAYLIGHT
BEGIN:STANDARD
TZOFFSETFROM:+0300
TZOFFSETTO:+0200
TZNAME:EET
DTSTART:20251026T010000
END:STANDARD
BEGIN:DAYLIGHT
TZOFFSETFROM:+0200
TZOFFSETTO:+0300
TZNAME:EEST
DTSTART:20260329T010000
END:DAYLIGHT
BEGIN:STANDARD
TZOFFSETFROM:+0300
TZOFFSETTO:+0200
TZNAME:EET
DTSTART:20261025T010000
END:STANDARD
BEGIN:DAYLIGHT
TZOFFSETFROM:+0200
TZOFFSETTO:+0300
TZNAME:EEST
DTSTART:20270328T010000
END:DAYLIGHT
BEGIN:STANDARD
TZOFFSETFROM:+0300
TZOFFSETTO:+0200
TZNAME:EET
DTSTART:20271031T010000
END:STANDARD
END:VTIMEZONE
BEGIN:VEVENT
DTSTART;VALUE=DATE:20260530
DTEND;VALUE=DATE:20260601
DTSTAMP:20260422T034017
CREATED:20251215T212315Z
LAST-MODIFIED:20260219T192117Z
UID:23906-1780099200-1780271999@triatlonromania.ro
SUMMARY:H3RO Mamaia 2026
DESCRIPTION: • Tip competitie: Triatlon Standard\, Sprint\, Supersprint\n • Organizator: Federatia Romana de Triatlon\n • WebSite: triatlonromania.ro\n • Locatie: Mamaia\, Constanța\n • Harta: https://maps.app.goo.gl/fp9was5u2ySXgZnJA
URL:https://triatlonromania.ro/eveniment/h3ro-mamaia-2026/
LOCATION:Mamaia\, Mamaia\, Constanta\, Constanta\, Romania
CATEGORIES:Eveniment International,Eveniment National
ATTACH;FMTTYPE=image/webp:https://triatlonromania.ro/wp-content/uploads/2025/12/H3RO-logo-2026.webp
ORGANIZER;CN="FRTRI":MAILTO:office@triatlonromania.ro
END:VEVENT
BEGIN:VEVENT
DTSTART;VALUE=DATE:20260530
DTEND;VALUE=DATE:20260531
DTSTAMP:20260422T034017
CREATED:20251220T143143Z
LAST-MODIFIED:20260223T102759Z
UID:24108-1780099200-1780185599@triatlonromania.ro
SUMMARY:Regional Development Cup 2026
DESCRIPTION: • Tip competitie: Triatlon Sprint\n • Organizator: Federatia Romana de Triatlon\n • WebSite: triatlonromania.ro\n • Locatie: Mamaia\, Constanța\n • Harta: https://maps.app.goo.gl/fp9was5u2ySXgZnJA
URL:https://triatlonromania.ro/eveniment/regional-development-cup-2026/
LOCATION:Mamaia\, Mamaia\, Constanta\, Constanta\, Romania
CATEGORIES:Eveniment International,Eveniment National
ATTACH;FMTTYPE=image/webp:https://triatlonromania.ro/wp-content/uploads/2025/12/Development-Regional-Cup-Mamaia-2026-World-European-Triatlon.webp
ORGANIZER;CN="FRTRI":MAILTO:office@triatlonromania.ro
END:VEVENT
BEGIN:VEVENT
DTSTART;VALUE=DATE:20260530
DTEND;VALUE=DATE:20260531
DTSTAMP:20260422T034017
CREATED:20251220T143424Z
LAST-MODIFIED:20251220T143424Z
UID:24109-1780099200-1780185599@triatlonromania.ro
SUMMARY:Superliga RO 13-15 ani 2026
DESCRIPTION: • Tip competitie: Triatlon Supersprint • Organizator: Federatia Romana de Triatlon • WebSite: triatlonromania.ro • Locatie: Mamaia\, Constanța • Harta: https://maps.app.goo.gl/fp9was5u2ySXgZnJA
URL:https://triatlonromania.ro/eveniment/superliga-ro-13-15-ani-2026/
LOCATION:Mamaia\, Mamaia\, Constanta\, Constanta\, Romania
CATEGORIES:Eveniment National,Superliga
ATTACH;FMTTYPE=image/webp:https://triatlonromania.ro/wp-content/uploads/2025/12/superliga-triro-2026.webp
ORGANIZER;CN="FRTRI":MAILTO:office@triatlonromania.ro
END:VEVENT
BEGIN:VEVENT
DTSTART;VALUE=DATE:20260530
DTEND;VALUE=DATE:20260531
DTSTAMP:20260422T034017
CREATED:20251220T145144Z
LAST-MODIFIED:20251220T145144Z
UID:24111-1780099200-1780185599@triatlonromania.ro
SUMMARY:TriKids Triatlon Mamaia 2026
DESCRIPTION: • Tip competitie: Triatlon Supersprint • Organizator: Federatia Romana de Triatlon • WebSite: triatlonromania.ro • Locatie: Mamaia\, Constanța • Harta: https://maps.app.goo.gl/fp9was5u2ySXgZnJA
URL:https://triatlonromania.ro/eveniment/trikids-triatlon-mamaia-2026/
LOCATION:Mamaia\, Mamaia\, Constanta\, Constanta\, Romania
CATEGORIES:Etapa TRIKids,Eveniment National
ATTACH;FMTTYPE=image/webp:https://triatlonromania.ro/wp-content/uploads/2025/12/trikids-triro-2026.webp
ORGANIZER;CN="FRTRI":MAILTO:office@triatlonromania.ro
END:VEVENT
END:VCALENDAR