BEGIN:VCALENDAR
VERSION:2.0
PRODID:-//Triatlon Romania - ECPv6.15.20//NONSGML v1.0//EN
CALSCALE:GREGORIAN
METHOD:PUBLISH
X-WR-CALNAME:Triatlon Romania
X-ORIGINAL-URL:https://triatlonromania.ro
X-WR-CALDESC:Evenimente pentru Triatlon Romania
REFRESH-INTERVAL;VALUE=DURATION:PT1H
X-Robots-Tag:noindex
X-PUBLISHED-TTL:PT1H
BEGIN:VTIMEZONE
TZID:Europe/Bucharest
BEGIN:DAYLIGHT
TZOFFSETFROM:+0200
TZOFFSETTO:+0300
TZNAME:EEST
DTSTART:20250330T010000
END:DAYLIGHT
BEGIN:STANDARD
TZOFFSETFROM:+0300
TZOFFSETTO:+0200
TZNAME:EET
DTSTART:20251026T010000
END:STANDARD
BEGIN:DAYLIGHT
TZOFFSETFROM:+0200
TZOFFSETTO:+0300
TZNAME:EEST
DTSTART:20260329T010000
END:DAYLIGHT
BEGIN:STANDARD
TZOFFSETFROM:+0300
TZOFFSETTO:+0200
TZNAME:EET
DTSTART:20261025T010000
END:STANDARD
BEGIN:DAYLIGHT
TZOFFSETFROM:+0200
TZOFFSETTO:+0300
TZNAME:EEST
DTSTART:20270328T010000
END:DAYLIGHT
BEGIN:STANDARD
TZOFFSETFROM:+0300
TZOFFSETTO:+0200
TZNAME:EET
DTSTART:20271031T010000
END:STANDARD
END:VTIMEZONE
BEGIN:VEVENT
DTSTART;VALUE=DATE:20260606
DTEND;VALUE=DATE:20260607
DTSTAMP:20260422T083732
CREATED:20251220T193649Z
LAST-MODIFIED:20251220T193649Z
UID:24112-1780704000-1780790399@triatlonromania.ro
SUMMARY:X-Man Romania 2026
DESCRIPTION: • Tip competitie: Triatlon Full\, Half\, Standard • Organizator: ACS Xterra Sport Bihor • WebSite: xmanromania.ro • Locatie: Oradea\, Bihor • Harta: maps.app.goo.gl/darNY4NVEUdoEuFG7
URL:https://triatlonromania.ro/eveniment/x-man-romania-2026/
LOCATION:Oradea\, Oradea\, Bihor\, Romania
CATEGORIES:Eveniment National
ATTACH;FMTTYPE=image/webp:https://triatlonromania.ro/wp-content/uploads/2021/12/X-Man-CN-Triatlon-Distanta-Lunga-2022.webp
ORGANIZER;CN="ACS Xterra Bihor":MAILTO:contact@xmanromania.ro
END:VEVENT
BEGIN:VEVENT
DTSTART;VALUE=DATE:20260606
DTEND;VALUE=DATE:20260607
DTSTAMP:20260422T083732
CREATED:20251220T194356Z
LAST-MODIFIED:20251220T194356Z
UID:24113-1780704000-1780790399@triatlonromania.ro
SUMMARY:CN Distanta Lunga 2026
DESCRIPTION: • Tip competitie: Triatlon Distanta Lunga • Organizator: ACS Xterra Sport Bihor\, Federația Română de Triatlon • WebSite: xmanromania.ro • Locatie: Oradea\, Bihor • Harta: maps.app.goo.gl/darNY4NVEUdoEuFG7
URL:https://triatlonromania.ro/eveniment/cn-distanta-lunga-2026/
LOCATION:Oradea\, Oradea\, Bihor\, Romania
CATEGORIES:Campionat National,Eveniment National
ATTACH;FMTTYPE=image/webp:https://triatlonromania.ro/wp-content/uploads/2025/12/triro-cn-triatlon-distanta-lunga-2026.webp
ORGANIZER;CN="ACS Xterra Bihor":MAILTO:contact@xmanromania.ro
END:VEVENT
BEGIN:VEVENT
DTSTART;VALUE=DATE:20260606
DTEND;VALUE=DATE:20260607
DTSTAMP:20260422T083732
CREATED:20251220T205750Z
LAST-MODIFIED:20251220T205750Z
UID:24114-1780704000-1780790399@triatlonromania.ro
SUMMARY:Fără asfalt - Triatlon la mare 2026
DESCRIPTION: • Tip competitie: Triatlon • Organizator: Fără Asfalt • WebSite: faraasfalt.ro • Locatie: 2 Mai\, Constanța • Harta: https://maps.app.goo.gl/gG31iotXmranMqTr9
URL:https://triatlonromania.ro/eveniment/fara-asfalt-triatlon-la-mare-2026/
LOCATION:2 Mai\, 2 Mai\, Constanta\, Romania
CATEGORIES:Eveniment National
ATTACH;FMTTYPE=image/webp:https://triatlonromania.ro/wp-content/uploads/2021/12/Fara-Asfalt-logo.webp
ORGANIZER;CN="Fara Asfalt":MAILTO:contact@faraasfalt.ro
END:VEVENT
END:VCALENDAR