BEGIN:VCALENDAR
VERSION:2.0
PRODID:-//Triatlon Romania - ECPv6.15.20//NONSGML v1.0//EN
CALSCALE:GREGORIAN
METHOD:PUBLISH
X-WR-CALNAME:Triatlon Romania
X-ORIGINAL-URL:https://triatlonromania.ro
X-WR-CALDESC:Evenimente pentru Triatlon Romania
REFRESH-INTERVAL;VALUE=DURATION:PT1H
X-Robots-Tag:noindex
X-PUBLISHED-TTL:PT1H
BEGIN:VTIMEZONE
TZID:Europe/Bucharest
BEGIN:DAYLIGHT
TZOFFSETFROM:+0200
TZOFFSETTO:+0300
TZNAME:EEST
DTSTART:20250330T010000
END:DAYLIGHT
BEGIN:STANDARD
TZOFFSETFROM:+0300
TZOFFSETTO:+0200
TZNAME:EET
DTSTART:20251026T010000
END:STANDARD
BEGIN:DAYLIGHT
TZOFFSETFROM:+0200
TZOFFSETTO:+0300
TZNAME:EEST
DTSTART:20260329T010000
END:DAYLIGHT
BEGIN:STANDARD
TZOFFSETFROM:+0300
TZOFFSETTO:+0200
TZNAME:EET
DTSTART:20261025T010000
END:STANDARD
BEGIN:DAYLIGHT
TZOFFSETFROM:+0200
TZOFFSETTO:+0300
TZNAME:EEST
DTSTART:20270328T010000
END:DAYLIGHT
BEGIN:STANDARD
TZOFFSETFROM:+0300
TZOFFSETTO:+0200
TZNAME:EET
DTSTART:20271031T010000
END:STANDARD
END:VTIMEZONE
BEGIN:VEVENT
DTSTART;VALUE=DATE:20260613
DTEND;VALUE=DATE:20260614
DTSTAMP:20260422T101628
CREATED:20251220T210213Z
LAST-MODIFIED:20251220T210213Z
UID:24115-1781308800-1781395199@triatlonromania.ro
SUMMARY:Divertiland Triatlon Supersprint by Seven 2026
DESCRIPTION: • Tip competitie: Triatlon Supersprint • Organizator: Seven Club • WebSite: sevensportclub.ro • Locatie: Divertiland Park\, Chiajna\, Ilfov • Harta: maps.app.goo.gl/p1eaUFcguB23nSCc8
URL:https://triatlonromania.ro/eveniment/divertiland-triatlon-supersprint-by-seven-2026/
CATEGORIES:Eveniment National
ATTACH;FMTTYPE=image/webp:https://triatlonromania.ro/wp-content/uploads/2025/12/Divertiland-logo-720.webp
END:VEVENT
BEGIN:VEVENT
DTSTART;VALUE=DATE:20260613
DTEND;VALUE=DATE:20260614
DTSTAMP:20260422T101628
CREATED:20251220T210749Z
LAST-MODIFIED:20251220T210749Z
UID:24116-1781308800-1781395199@triatlonromania.ro
SUMMARY:Superliga Supersprint RO 2026
DESCRIPTION: • Tip competitie: Triatlon Supersprint • Organizator: Seven Club & Federația Română de Triatlon • WebSite: sevensportclub.ro • Locatie: Divertiland Park\, Chiajna\, Ilfov • Harta: maps.app.goo.gl/p1eaUFcguB23nSCc8
URL:https://triatlonromania.ro/eveniment/superliga-supersprint-1-ro-2026/
CATEGORIES:Eveniment National,Superliga
ATTACH;FMTTYPE=image/webp:https://triatlonromania.ro/wp-content/uploads/2025/12/superliga-divertiland-2026.webp
END:VEVENT
BEGIN:VEVENT
DTSTART;VALUE=DATE:20260613
DTEND;VALUE=DATE:20260614
DTSTAMP:20260422T101628
CREATED:20251220T211037Z
LAST-MODIFIED:20251220T211037Z
UID:24117-1781308800-1781395199@triatlonromania.ro
SUMMARY:Divertiland TriKIDS Triatlon by Seven 2026
DESCRIPTION: • Tip competitie: Triatlon • Organizator: Seven Club & Federația Română de Triatlon • WebSite: sevensportclub.ro • Locatie: Divertiland Park\, Chiajna\, Ilfov • Harta: maps.app.goo.gl/p1eaUFcguB23nSCc8
URL:https://triatlonromania.ro/eveniment/divertiland-trikids-triatlon-by-seven-2026/
CATEGORIES:Etapa TRIKids,Eveniment National
ATTACH;FMTTYPE=image/webp:https://triatlonromania.ro/wp-content/uploads/2025/12/TriKids-Divertiland-Seven.webp
END:VEVENT
BEGIN:VEVENT
DTSTART;VALUE=DATE:20260613
DTEND;VALUE=DATE:20260614
DTSTAMP:20260422T101628
CREATED:20251220T211716Z
LAST-MODIFIED:20251220T211716Z
UID:23629-1781308800-1781395199@triatlonromania.ro
SUMMARY:CN Bazin Supersprint 2026
DESCRIPTION: • Tip competitie: Triatlon Supersprint • Organizator: Federația Română de Triatlon • WebSite: triatlonromania.ro • Locatie: Divertiland Park\, Chiajna\, Ilfov • Harta: maps.app.goo.gl/p1eaUFcguB23nSCc8
URL:https://triatlonromania.ro/eveniment/cn-bazin-supersprint-2026/
CATEGORIES:Campionat National,Eveniment National
ATTACH;FMTTYPE=image/webp:https://triatlonromania.ro/wp-content/uploads/2025/12/triro-cn-2026.webp
END:VEVENT
END:VCALENDAR