BEGIN:VCALENDAR
VERSION:2.0
PRODID:-//Triatlon Romania - ECPv6.15.20//NONSGML v1.0//EN
CALSCALE:GREGORIAN
METHOD:PUBLISH
X-WR-CALNAME:Triatlon Romania
X-ORIGINAL-URL:https://triatlonromania.ro
X-WR-CALDESC:Evenimente pentru Triatlon Romania
REFRESH-INTERVAL;VALUE=DURATION:PT1H
X-Robots-Tag:noindex
X-PUBLISHED-TTL:PT1H
BEGIN:VTIMEZONE
TZID:Europe/Bucharest
BEGIN:DAYLIGHT
TZOFFSETFROM:+0200
TZOFFSETTO:+0300
TZNAME:EEST
DTSTART:20250330T010000
END:DAYLIGHT
BEGIN:STANDARD
TZOFFSETFROM:+0300
TZOFFSETTO:+0200
TZNAME:EET
DTSTART:20251026T010000
END:STANDARD
BEGIN:DAYLIGHT
TZOFFSETFROM:+0200
TZOFFSETTO:+0300
TZNAME:EEST
DTSTART:20260329T010000
END:DAYLIGHT
BEGIN:STANDARD
TZOFFSETFROM:+0300
TZOFFSETTO:+0200
TZNAME:EET
DTSTART:20261025T010000
END:STANDARD
BEGIN:DAYLIGHT
TZOFFSETFROM:+0200
TZOFFSETTO:+0300
TZNAME:EEST
DTSTART:20270328T010000
END:DAYLIGHT
BEGIN:STANDARD
TZOFFSETFROM:+0300
TZOFFSETTO:+0200
TZNAME:EET
DTSTART:20271031T010000
END:STANDARD
END:VTIMEZONE
BEGIN:VEVENT
DTSTART;VALUE=DATE:20260606
DTEND;VALUE=DATE:20260607
DTSTAMP:20260423T150226
CREATED:20251220T194356Z
LAST-MODIFIED:20251220T194356Z
UID:24113-1780704000-1780790399@triatlonromania.ro
SUMMARY:CN Distanta Lunga 2026
DESCRIPTION: • Tip competitie: Triatlon Distanta Lunga • Organizator: ACS Xterra Sport Bihor\, Federația Română de Triatlon • WebSite: xmanromania.ro • Locatie: Oradea\, Bihor • Harta: maps.app.goo.gl/darNY4NVEUdoEuFG7
URL:https://triatlonromania.ro/eveniment/cn-distanta-lunga-2026/
LOCATION:Oradea\, Oradea\, Bihor\, Romania
CATEGORIES:Campionat National,Eveniment National
ATTACH;FMTTYPE=image/webp:https://triatlonromania.ro/wp-content/uploads/2025/12/triro-cn-triatlon-distanta-lunga-2026.webp
ORGANIZER;CN="ACS Xterra Bihor":MAILTO:contact@xmanromania.ro
END:VEVENT
BEGIN:VEVENT
DTSTART;VALUE=DATE:20260613
DTEND;VALUE=DATE:20260614
DTSTAMP:20260423T150226
CREATED:20251220T211716Z
LAST-MODIFIED:20251220T211716Z
UID:23629-1781308800-1781395199@triatlonromania.ro
SUMMARY:CN Bazin Supersprint 2026
DESCRIPTION: • Tip competitie: Triatlon Supersprint • Organizator: Federația Română de Triatlon • WebSite: triatlonromania.ro • Locatie: Divertiland Park\, Chiajna\, Ilfov • Harta: maps.app.goo.gl/p1eaUFcguB23nSCc8
URL:https://triatlonromania.ro/eveniment/cn-bazin-supersprint-2026/
CATEGORIES:Campionat National,Eveniment National
ATTACH;FMTTYPE=image/webp:https://triatlonromania.ro/wp-content/uploads/2025/12/triro-cn-2026.webp
END:VEVENT
BEGIN:VEVENT
DTSTART;VALUE=DATE:20260627
DTEND;VALUE=DATE:20260629
DTSTAMP:20260423T150226
CREATED:20251220T213700Z
LAST-MODIFIED:20251220T213700Z
UID:24119-1782518400-1782691199@triatlonromania.ro
SUMMARY:CN Triatlon Half 2026
DESCRIPTION: • Tip competitie: Triatlon Half  • Organizator: Master Ski and Bike Club & Federația Română de Triatlon • WebSite: transylvaniatriathlonfestival.ro • Locatie: Sângeorgiu de Pădure\, Mureș • Harta: maps.app.goo.gl/oReS2hgRWRMUvsYu9
URL:https://triatlonromania.ro/eveniment/cn-triatlon-half-2026/
LOCATION:Sangeorgiu de Padure\, Sangeorgiu de Padure\, Mures\, Romania
CATEGORIES:Campionat National,Eveniment National
ATTACH;FMTTYPE=image/webp:https://triatlonromania.ro/wp-content/uploads/2025/12/triro-cn-transylvania-festival-2026.webp
ORGANIZER;CN="Master Ski & Bike":MAILTO:masterskibikeclub@yahoo.com
END:VEVENT
END:VCALENDAR