BEGIN:VCALENDAR
VERSION:2.0
PRODID:-//Triatlon Romania - ECPv6.15.20//NONSGML v1.0//EN
CALSCALE:GREGORIAN
METHOD:PUBLISH
X-WR-CALNAME:Triatlon Romania
X-ORIGINAL-URL:https://triatlonromania.ro
X-WR-CALDESC:Evenimente pentru Triatlon Romania
REFRESH-INTERVAL;VALUE=DURATION:PT1H
X-Robots-Tag:noindex
X-PUBLISHED-TTL:PT1H
BEGIN:VTIMEZONE
TZID:Europe/Bucharest
BEGIN:DAYLIGHT
TZOFFSETFROM:+0200
TZOFFSETTO:+0300
TZNAME:EEST
DTSTART:20250330T010000
END:DAYLIGHT
BEGIN:STANDARD
TZOFFSETFROM:+0300
TZOFFSETTO:+0200
TZNAME:EET
DTSTART:20251026T010000
END:STANDARD
BEGIN:DAYLIGHT
TZOFFSETFROM:+0200
TZOFFSETTO:+0300
TZNAME:EEST
DTSTART:20260329T010000
END:DAYLIGHT
BEGIN:STANDARD
TZOFFSETFROM:+0300
TZOFFSETTO:+0200
TZNAME:EET
DTSTART:20261025T010000
END:STANDARD
BEGIN:DAYLIGHT
TZOFFSETFROM:+0200
TZOFFSETTO:+0300
TZNAME:EEST
DTSTART:20270328T010000
END:DAYLIGHT
BEGIN:STANDARD
TZOFFSETFROM:+0300
TZOFFSETTO:+0200
TZNAME:EET
DTSTART:20271031T010000
END:STANDARD
END:VTIMEZONE
BEGIN:VEVENT
DTSTART;VALUE=DATE:20260530
DTEND;VALUE=DATE:20260601
DTSTAMP:20260421T152748
CREATED:20251215T212315Z
LAST-MODIFIED:20260219T192117Z
UID:23906-1780099200-1780271999@triatlonromania.ro
SUMMARY:H3RO Mamaia 2026
DESCRIPTION: • Tip competitie: Triatlon Standard\, Sprint\, Supersprint\n • Organizator: Federatia Romana de Triatlon\n • WebSite: triatlonromania.ro\n • Locatie: Mamaia\, Constanța\n • Harta: https://maps.app.goo.gl/fp9was5u2ySXgZnJA
URL:https://triatlonromania.ro/eveniment/h3ro-mamaia-2026/
LOCATION:Mamaia\, Mamaia\, Constanta\, Constanta\, Romania
CATEGORIES:Eveniment International,Eveniment National
ATTACH;FMTTYPE=image/webp:https://triatlonromania.ro/wp-content/uploads/2025/12/H3RO-logo-2026.webp
ORGANIZER;CN="FRTRI":MAILTO:office@triatlonromania.ro
END:VEVENT
END:VCALENDAR