BEGIN:VCALENDAR
VERSION:2.0
PRODID:-//Triatlon Romania - ECPv6.15.20//NONSGML v1.0//EN
CALSCALE:GREGORIAN
METHOD:PUBLISH
X-WR-CALNAME:Triatlon Romania
X-ORIGINAL-URL:https://triatlonromania.ro
X-WR-CALDESC:Evenimente pentru Triatlon Romania
REFRESH-INTERVAL;VALUE=DURATION:PT1H
X-Robots-Tag:noindex
X-PUBLISHED-TTL:PT1H
BEGIN:VTIMEZONE
TZID:Europe/Bucharest
BEGIN:DAYLIGHT
TZOFFSETFROM:+0200
TZOFFSETTO:+0300
TZNAME:EEST
DTSTART:20240331T010000
END:DAYLIGHT
BEGIN:STANDARD
TZOFFSETFROM:+0300
TZOFFSETTO:+0200
TZNAME:EET
DTSTART:20241027T010000
END:STANDARD
BEGIN:DAYLIGHT
TZOFFSETFROM:+0200
TZOFFSETTO:+0300
TZNAME:EEST
DTSTART:20250330T010000
END:DAYLIGHT
BEGIN:STANDARD
TZOFFSETFROM:+0300
TZOFFSETTO:+0200
TZNAME:EET
DTSTART:20251026T010000
END:STANDARD
BEGIN:DAYLIGHT
TZOFFSETFROM:+0200
TZOFFSETTO:+0300
TZNAME:EEST
DTSTART:20260329T010000
END:DAYLIGHT
BEGIN:STANDARD
TZOFFSETFROM:+0300
TZOFFSETTO:+0200
TZNAME:EET
DTSTART:20261025T010000
END:STANDARD
END:VTIMEZONE
BEGIN:VEVENT
DTSTART;VALUE=DATE:20250607
DTEND;VALUE=DATE:20250608
DTSTAMP:20260423T035224
CREATED:20250109T144131Z
LAST-MODIFIED:20250110T233526Z
UID:22237-1749254400-1749340799@triatlonromania.ro
SUMMARY:X-MAN Romania 2025
DESCRIPTION:• Organizator: ACS Xterra Sport Bihor • Locație: Oradea – Bihor • Hartă: maps.app.goo.gl/darNY4NVEUdoEuFG7 • WebSite: xmanromania.ro 
URL:https://triatlonromania.ro/eveniment/x-man-romania-2025/
LOCATION:Oradea\, Oradea\, Bihor\, Romania
CATEGORIES:Eveniment National
ATTACH;FMTTYPE=image/webp:https://triatlonromania.ro/wp-content/uploads/2021/12/X-Man-CN-Triatlon-Distanta-Lunga-2022.webp
ORGANIZER;CN="ACS Xterra Bihor":MAILTO:contact@xmanromania.ro
END:VEVENT
BEGIN:VEVENT
DTSTART;VALUE=DATE:20250607
DTEND;VALUE=DATE:20250608
DTSTAMP:20260423T035224
CREATED:20250109T144131Z
LAST-MODIFIED:20250109T144131Z
UID:24075-1749254400-1749340799@triatlonromania.ro
SUMMARY:X-MAN Romania 2025
DESCRIPTION:• Organizator: ACS Xterra Sport Bihor • Locație: Oradea – Bihor • Hartă: maps.app.goo.gl/darNY4NVEUdoEuFG7 • WebSite: xmanromania.ro 
URL:https://triatlonromania.ro/eveniment/x-man-romania-2025-2/
LOCATION:Oradea\, Oradea\, Bihor\, Romania
CATEGORIES:Eveniment National
ATTACH;FMTTYPE=image/webp:https://triatlonromania.ro/wp-content/uploads/2021/12/X-Man-CN-Triatlon-Distanta-Lunga-2022.webp
ORGANIZER;CN="ACS Xterra Bihor":MAILTO:contact@xmanromania.ro
END:VEVENT
BEGIN:VEVENT
DTSTART;VALUE=DATE:20250607
DTEND;VALUE=DATE:20250608
DTSTAMP:20260423T035224
CREATED:20250110T233444Z
LAST-MODIFIED:20250110T233451Z
UID:22338-1749254400-1749340799@triatlonromania.ro
SUMMARY:CN Triatlon Distanta Lunga - in cadrul X-MAN Romania 2025
DESCRIPTION:• Organizator: ACS Xterra Sport Bihor• Locație: Oradea – Bihor• Hartă: maps.app.goo.gl/darNY4NVEUdoEuFG7 • WebSite: xmanromania.ro 
URL:https://triatlonromania.ro/eveniment/cn-triatlon-distanta-lunga-in-cadrul-x-man-romania-2025/
LOCATION:Oradea\, Oradea\, Bihor\, Romania
CATEGORIES:Campionat National,Eveniment National
ATTACH;FMTTYPE=image/webp:https://triatlonromania.ro/wp-content/uploads/2025/01/CN-Triatlon-Distanta-Lunga-2025.webp
ORGANIZER;CN="ACS Xterra Bihor":MAILTO:contact@xmanromania.ro
END:VEVENT
BEGIN:VEVENT
DTSTART;VALUE=DATE:20250607
DTEND;VALUE=DATE:20250608
DTSTAMP:20260423T035224
CREATED:20250110T233444Z
LAST-MODIFIED:20250110T233444Z
UID:24085-1749254400-1749340799@triatlonromania.ro
SUMMARY:CN Triatlon Distanta Lunga - in cadrul X-MAN Romania 2025
DESCRIPTION:• Organizator: ACS Xterra Sport Bihor• Locație: Oradea – Bihor• Hartă: maps.app.goo.gl/darNY4NVEUdoEuFG7 • WebSite: xmanromania.ro 
URL:https://triatlonromania.ro/eveniment/cn-triatlon-distanta-lunga-in-cadrul-x-man-romania-2025-2/
LOCATION:Oradea\, Oradea\, Bihor\, Romania
CATEGORIES:Campionat National,Eveniment National
ATTACH;FMTTYPE=image/webp:https://triatlonromania.ro/wp-content/uploads/2025/01/CN-Triatlon-Distanta-Lunga-2025.webp
ORGANIZER;CN="ACS Xterra Bihor":MAILTO:contact@xmanromania.ro
END:VEVENT
BEGIN:VEVENT
DTSTART;VALUE=DATE:20250607
DTEND;VALUE=DATE:20250608
DTSTAMP:20260423T035224
CREATED:20250121T131637Z
LAST-MODIFIED:20250121T131820Z
UID:22454-1749254400-1749340799@triatlonromania.ro
SUMMARY:CN Triatlon Distanta Standard - in cadrul X-MAN Romania 2025
DESCRIPTION:• Organizator: ACS Xterra Sport Bihor • Locație: Oradea – Bihor • Hartă: maps.app.goo.gl/darNY4NVEUdoEuFG7 • WebSite: xmanromania.ro 
URL:https://triatlonromania.ro/eveniment/cn-triatlon-distanta-standard-in-cadrul-x-man-romania-2025/
LOCATION:Oradea\, Oradea\, Bihor\, Romania
CATEGORIES:Campionat National,Eveniment National
ATTACH;FMTTYPE=image/webp:https://triatlonromania.ro/wp-content/uploads/2025/01/CN-Triatlon-Distanta-Standard-2025.webp
ORGANIZER;CN="ACS Xterra Bihor":MAILTO:contact@xmanromania.ro
END:VEVENT
BEGIN:VEVENT
DTSTART;VALUE=DATE:20250607
DTEND;VALUE=DATE:20250608
DTSTAMP:20260423T035224
CREATED:20250121T131637Z
LAST-MODIFIED:20250121T131637Z
UID:24092-1749254400-1749340799@triatlonromania.ro
SUMMARY:CN Triatlon Distanta Standard - in cadrul X-MAN Romania 2025
DESCRIPTION:• Organizator: ACS Xterra Sport Bihor • Locație: Oradea – Bihor • Hartă: maps.app.goo.gl/darNY4NVEUdoEuFG7 • WebSite: xmanromania.ro 
URL:https://triatlonromania.ro/eveniment/cn-triatlon-distanta-standard-in-cadrul-x-man-romania-2025-2/
LOCATION:Oradea\, Oradea\, Bihor\, Romania
CATEGORIES:Campionat National,Eveniment National
ATTACH;FMTTYPE=image/webp:https://triatlonromania.ro/wp-content/uploads/2025/01/CN-Triatlon-Distanta-Standard-2025.webp
ORGANIZER;CN="ACS Xterra Bihor":MAILTO:contact@xmanromania.ro
END:VEVENT
BEGIN:VEVENT
DTSTART;VALUE=DATE:20250614
DTEND;VALUE=DATE:20250615
DTSTAMP:20260423T035224
CREATED:20250109T154729Z
LAST-MODIFIED:20250529T073841Z
UID:22250-1749859200-1749945599@triatlonromania.ro
SUMMARY:Velocrosul Castanilor\, Cupa Romaniei & TRIkids 2025
DESCRIPTION:• Organizator: Club Sportiv Asociatia Domeniul Cantacuzino• Locație: Domeniul Cantacuzino\, Floresti\, Prahova• Hartă: maps.app.goo.gl/FMw8e7JSCnR4ezkp6 • WebSite:  velocros.domeniulcantacuzino.ro
URL:https://triatlonromania.ro/eveniment/velocrosul-castanilor-cupa-romaniei-trikids-2025/
LOCATION:Domeniul Cantacuzino\, Floresti\, Prahova\, Floresti\, Prahova\, Romania
CATEGORIES:Cupa Romaniei,Etapa TRIKids,Eveniment National
ATTACH;FMTTYPE=image/webp:https://triatlonromania.ro/wp-content/uploads/2025/01/CR-Cros-Duatlon-2025.webp
END:VEVENT
BEGIN:VEVENT
DTSTART;VALUE=DATE:20250614
DTEND;VALUE=DATE:20250615
DTSTAMP:20260423T035224
CREATED:20250109T154729Z
LAST-MODIFIED:20250109T154729Z
UID:24076-1749859200-1749945599@triatlonromania.ro
SUMMARY:Velocrosul Castanilor\, Cupa Romaniei & TRIkids 2025
DESCRIPTION:• Organizator: Club Sportiv Asociatia Domeniul Cantacuzino• Locație: Domeniul Cantacuzino\, Floresti\, Prahova• Hartă: maps.app.goo.gl/FMw8e7JSCnR4ezkp6 • WebSite:  velocros.domeniulcantacuzino.ro
URL:https://triatlonromania.ro/eveniment/velocrosul-castanilor-cupa-romaniei-trikids-2025-2/
LOCATION:Domeniul Cantacuzino\, Floresti\, Prahova\, Floresti\, Prahova\, Romania
CATEGORIES:Cupa Romaniei,Etapa TRIKids,Eveniment National
ATTACH;FMTTYPE=image/webp:https://triatlonromania.ro/wp-content/uploads/2025/01/CR-Cros-Duatlon-2025.webp
END:VEVENT
BEGIN:VEVENT
DTSTART;VALUE=DATE:20250628
DTEND;VALUE=DATE:20250630
DTSTAMP:20260423T035224
CREATED:20250109T190551Z
LAST-MODIFIED:20250110T235254Z
UID:22257-1751068800-1751241599@triatlonromania.ro
SUMMARY:Transylvania Triathlon Festival 2025
DESCRIPTION:• Organizator: Master Ski & Bike• Locație: Târgu Mureș – Mureș• Hartă: maps.app.goo.gl/pzrEGnSPesfiRi9Q9 • WebSite: transylvaniatriathlonfestival.ro 
URL:https://triatlonromania.ro/eveniment/transylvania-triathlon-festival-2025/
LOCATION:Targu Mures\, Targu Mures\, Mures\, Romania
CATEGORIES:Eveniment International,Eveniment National
ATTACH;FMTTYPE=image/webp:https://triatlonromania.ro/wp-content/uploads/2025/01/Transylvania-Triathlon-Festival-2025.webp
ORGANIZER;CN="Master Ski & Bike":MAILTO:masterskibikeclub@yahoo.com
END:VEVENT
BEGIN:VEVENT
DTSTART;VALUE=DATE:20250628
DTEND;VALUE=DATE:20250630
DTSTAMP:20260423T035224
CREATED:20250109T190551Z
LAST-MODIFIED:20250109T190551Z
UID:24077-1751068800-1751241599@triatlonromania.ro
SUMMARY:Transylvania Triathlon Festival 2025
DESCRIPTION:• Organizator: Master Ski & Bike• Locație: Târgu Mureș – Mureș• Hartă: maps.app.goo.gl/pzrEGnSPesfiRi9Q9 • WebSite: transylvaniatriathlonfestival.ro 
URL:https://triatlonromania.ro/eveniment/transylvania-triathlon-festival-2025-2/
LOCATION:Targu Mures\, Targu Mures\, Mures\, Romania
CATEGORIES:Eveniment International,Eveniment National
ATTACH;FMTTYPE=image/webp:https://triatlonromania.ro/wp-content/uploads/2025/01/Transylvania-Triathlon-Festival-2025.webp
ORGANIZER;CN="Master Ski & Bike":MAILTO:masterskibikeclub@yahoo.com
END:VEVENT
BEGIN:VEVENT
DTSTART;VALUE=DATE:20250629
DTEND;VALUE=DATE:20250630
DTSTAMP:20260423T035224
CREATED:20250110T233940Z
LAST-MODIFIED:20250530T102828Z
UID:22346-1751155200-1751241599@triatlonromania.ro
SUMMARY:CN Triatlon Distanta Medie - in cadrul Transylvania Triathlon Festival 2025
DESCRIPTION:• Organizator: Master Ski & Bike • Locație: Târgu Mureș – Mureș • Hartă: maps.app.goo.gl/pzrEGnSPesfiRi9Q9 • WebSite: transylvaniatriathlonfestival.ro 
URL:https://triatlonromania.ro/eveniment/cn-triatlon-distanta-medie-in-cadrul-transylvania-triathlon-festival-2025/
LOCATION:Targu Mures\, Targu Mures\, Mures\, Romania
CATEGORIES:Campionat National,Eveniment National
ATTACH;FMTTYPE=image/webp:https://triatlonromania.ro/wp-content/uploads/2025/01/CN-Triatlon-Distanta-Medie-2025.webp
ORGANIZER;CN="Master Ski & Bike":MAILTO:masterskibikeclub@yahoo.com
END:VEVENT
BEGIN:VEVENT
DTSTART;VALUE=DATE:20250629
DTEND;VALUE=DATE:20250630
DTSTAMP:20260423T035224
CREATED:20250110T233940Z
LAST-MODIFIED:20250110T233940Z
UID:24086-1751155200-1751241599@triatlonromania.ro
SUMMARY:CN Triatlon Distanta Medie - in cadrul Transylvania Triathlon Festival 2025
DESCRIPTION:• Organizator: Master Ski & Bike • Locație: Târgu Mureș – Mureș • Hartă: maps.app.goo.gl/pzrEGnSPesfiRi9Q9 • WebSite: transylvaniatriathlonfestival.ro 
URL:https://triatlonromania.ro/eveniment/cn-triatlon-distanta-medie-in-cadrul-transylvania-triathlon-festival-2025-2/
LOCATION:Targu Mures\, Targu Mures\, Mures\, Romania
CATEGORIES:Campionat National,Eveniment National
ATTACH;FMTTYPE=image/webp:https://triatlonromania.ro/wp-content/uploads/2025/01/CN-Triatlon-Distanta-Medie-2025.webp
ORGANIZER;CN="Master Ski & Bike":MAILTO:masterskibikeclub@yahoo.com
END:VEVENT
END:VCALENDAR