BEGIN:VCALENDAR
VERSION:2.0
PRODID:-//Triatlon Romania - ECPv6.15.20//NONSGML v1.0//EN
CALSCALE:GREGORIAN
METHOD:PUBLISH
X-WR-CALNAME:Triatlon Romania
X-ORIGINAL-URL:https://triatlonromania.ro
X-WR-CALDESC:Evenimente pentru Triatlon Romania
REFRESH-INTERVAL;VALUE=DURATION:PT1H
X-Robots-Tag:noindex
X-PUBLISHED-TTL:PT1H
BEGIN:VTIMEZONE
TZID:Europe/Bucharest
BEGIN:DAYLIGHT
TZOFFSETFROM:+0200
TZOFFSETTO:+0300
TZNAME:EEST
DTSTART:20240331T010000
END:DAYLIGHT
BEGIN:STANDARD
TZOFFSETFROM:+0300
TZOFFSETTO:+0200
TZNAME:EET
DTSTART:20241027T010000
END:STANDARD
BEGIN:DAYLIGHT
TZOFFSETFROM:+0200
TZOFFSETTO:+0300
TZNAME:EEST
DTSTART:20250330T010000
END:DAYLIGHT
BEGIN:STANDARD
TZOFFSETFROM:+0300
TZOFFSETTO:+0200
TZNAME:EET
DTSTART:20251026T010000
END:STANDARD
BEGIN:DAYLIGHT
TZOFFSETFROM:+0200
TZOFFSETTO:+0300
TZNAME:EEST
DTSTART:20260329T010000
END:DAYLIGHT
BEGIN:STANDARD
TZOFFSETFROM:+0300
TZOFFSETTO:+0200
TZNAME:EET
DTSTART:20261025T010000
END:STANDARD
END:VTIMEZONE
BEGIN:VEVENT
DTSTART;VALUE=DATE:20250803
DTEND;VALUE=DATE:20250804
DTSTAMP:20260423T010608
CREATED:20250109T212616Z
LAST-MODIFIED:20250109T212616Z
UID:24769-1754179200-1754265599@triatlonromania.ro
SUMMARY:Sibiu Triathlon Challenge 2025
DESCRIPTION:• Organizator: Accepta Provocarea• Locație: Sibiu• Hartă: maps.app.goo.gl/8PsBhjDGJD7aMuR4A • WebSite: acceptaprovocarea.com  
URL:https://triatlonromania.ro/eveniment/sibiu-triathlon-challenge-2025-3/
LOCATION:Sibiu\, Sibiu\, Sibiu\, Romania
CATEGORIES:Eveniment National
ATTACH;FMTTYPE=image/webp:https://triatlonromania.ro/wp-content/uploads/2021/12/Sibiu-Triathlon-Challenge-2022-logo.webp
END:VEVENT
BEGIN:VEVENT
DTSTART;VALUE=DATE:20250803
DTEND;VALUE=DATE:20250804
DTSTAMP:20260423T010608
CREATED:20250109T212616Z
LAST-MODIFIED:20250620T182103Z
UID:22276-1754179200-1754265599@triatlonromania.ro
SUMMARY:Sibiu Triathlon Challenge 2025
DESCRIPTION:• Organizator: Accepta Provocarea• Locație: Sibiu• Hartă: maps.app.goo.gl/8PsBhjDGJD7aMuR4A • WebSite: acceptaprovocarea.com  
URL:https://triatlonromania.ro/eveniment/sibiu-triathlon-challenge-2025/
LOCATION:Sibiu\, Sibiu\, Sibiu\, Romania
CATEGORIES:Eveniment National
ATTACH;FMTTYPE=image/webp:https://triatlonromania.ro/wp-content/uploads/2021/12/Sibiu-Triathlon-Challenge-2022-logo.webp
END:VEVENT
BEGIN:VEVENT
DTSTART;VALUE=DATE:20250803
DTEND;VALUE=DATE:20250804
DTSTAMP:20260423T010608
CREATED:20250109T212616Z
LAST-MODIFIED:20250109T212616Z
UID:24080-1754179200-1754265599@triatlonromania.ro
SUMMARY:Sibiu Triathlon Challenge 2025
DESCRIPTION:• Organizator: Accepta Provocarea• Locație: Sibiu• Hartă: maps.app.goo.gl/8PsBhjDGJD7aMuR4A • WebSite: acceptaprovocarea.com  
URL:https://triatlonromania.ro/eveniment/sibiu-triathlon-challenge-2025-2/
LOCATION:Sibiu\, Sibiu\, Sibiu\, Romania
CATEGORIES:Eveniment National
ATTACH;FMTTYPE=image/webp:https://triatlonromania.ro/wp-content/uploads/2021/12/Sibiu-Triathlon-Challenge-2022-logo.webp
END:VEVENT
BEGIN:VEVENT
DTSTART;VALUE=DATE:20250803
DTEND;VALUE=DATE:20250804
DTSTAMP:20260423T010608
CREATED:20250111T003520Z
LAST-MODIFIED:20250111T003520Z
UID:24088-1754179200-1754265599@triatlonromania.ro
SUMMARY:CN Triatlon Sprint - in cadrul Sibiu Triathlon Challange 2025
DESCRIPTION:• Organizator: Accepta Provocarea • Locație: Sibiu • Hartă: maps.app.goo.gl/8PsBhjDGJD7aMuR4A • WebSite: acceptaprovocarea.com  
URL:https://triatlonromania.ro/eveniment/cn-triatlon-sprint-in-cadrul-sibiu-triathlon-challange-2025-2/
LOCATION:Sibiu\, Sibiu\, Sibiu\, Romania
CATEGORIES:Campionat National,Eveniment National
ATTACH;FMTTYPE=image/webp:https://triatlonromania.ro/wp-content/uploads/2025/01/CN-Triatlon-Sprint-2025.webp
END:VEVENT
BEGIN:VEVENT
DTSTART;VALUE=DATE:20250803
DTEND;VALUE=DATE:20250804
DTSTAMP:20260423T010608
CREATED:20250111T003520Z
LAST-MODIFIED:20250111T003525Z
UID:22372-1754179200-1754265599@triatlonromania.ro
SUMMARY:CN Triatlon Sprint - in cadrul Sibiu Triathlon Challange 2025
DESCRIPTION:• Organizator: Accepta Provocarea • Locație: Sibiu • Hartă: maps.app.goo.gl/8PsBhjDGJD7aMuR4A • WebSite: acceptaprovocarea.com  
URL:https://triatlonromania.ro/eveniment/cn-triatlon-sprint-in-cadrul-sibiu-triathlon-challange-2025/
LOCATION:Sibiu\, Sibiu\, Sibiu\, Romania
CATEGORIES:Campionat National,Eveniment National
ATTACH;FMTTYPE=image/webp:https://triatlonromania.ro/wp-content/uploads/2025/01/CN-Triatlon-Sprint-2025.webp
END:VEVENT
END:VCALENDAR