BEGIN:VCALENDAR
VERSION:2.0
PRODID:-//Triatlon Romania - ECPv6.15.20//NONSGML v1.0//EN
CALSCALE:GREGORIAN
METHOD:PUBLISH
X-ORIGINAL-URL:https://triatlonromania.ro
X-WR-CALDESC:Evenimente pentru Triatlon Romania
REFRESH-INTERVAL;VALUE=DURATION:PT1H
X-Robots-Tag:noindex
X-PUBLISHED-TTL:PT1H
BEGIN:VTIMEZONE
TZID:Europe/Bucharest
BEGIN:DAYLIGHT
TZOFFSETFROM:+0200
TZOFFSETTO:+0300
TZNAME:EEST
DTSTART:20240331T010000
END:DAYLIGHT
BEGIN:STANDARD
TZOFFSETFROM:+0300
TZOFFSETTO:+0200
TZNAME:EET
DTSTART:20241027T010000
END:STANDARD
BEGIN:DAYLIGHT
TZOFFSETFROM:+0200
TZOFFSETTO:+0300
TZNAME:EEST
DTSTART:20250330T010000
END:DAYLIGHT
BEGIN:STANDARD
TZOFFSETFROM:+0300
TZOFFSETTO:+0200
TZNAME:EET
DTSTART:20251026T010000
END:STANDARD
BEGIN:DAYLIGHT
TZOFFSETFROM:+0200
TZOFFSETTO:+0300
TZNAME:EEST
DTSTART:20260329T010000
END:DAYLIGHT
BEGIN:STANDARD
TZOFFSETFROM:+0300
TZOFFSETTO:+0200
TZNAME:EET
DTSTART:20261025T010000
END:STANDARD
END:VTIMEZONE
BEGIN:VEVENT
DTSTART;VALUE=DATE:20250719
DTEND;VALUE=DATE:20250721
DTSTAMP:20260423T035642
CREATED:20250109T195741Z
LAST-MODIFIED:20250111T000505Z
UID:22266-1752883200-1753055999@triatlonromania.ro
SUMMARY:Timisoara Triathlon 2025
DESCRIPTION:• Organizator: Timișoara Triathlon • Locație: Timișoara • Hartă: maps.app.goo.gl/kDc6mRKSqbHCAxxE7 • WebSite: timisoaratriathlon.ro 
URL:https://triatlonromania.ro/eveniment/timisoara-triathlon-2025/
LOCATION:Timisoara\, Timisoara\, Timis\, Romania
CATEGORIES:Eveniment National
ATTACH;FMTTYPE=image/webp:https://triatlonromania.ro/wp-content/uploads/2023/11/Timisoara-Triathlon-2024.webp
END:VEVENT
BEGIN:VEVENT
DTSTART;VALUE=DATE:20250719
DTEND;VALUE=DATE:20250721
DTSTAMP:20260423T035642
CREATED:20250109T195741Z
LAST-MODIFIED:20250109T195741Z
UID:24078-1752883200-1753055999@triatlonromania.ro
SUMMARY:Timisoara Triathlon 2025
DESCRIPTION:• Organizator: Timișoara Triathlon • Locație: Timișoara • Hartă: maps.app.goo.gl/kDc6mRKSqbHCAxxE7 • WebSite: timisoaratriathlon.ro 
URL:https://triatlonromania.ro/eveniment/timisoara-triathlon-2025-2/
LOCATION:Timisoara\, Timisoara\, Timis\, Romania
CATEGORIES:Eveniment National
ATTACH;FMTTYPE=image/webp:https://triatlonromania.ro/wp-content/uploads/2023/11/Timisoara-Triathlon-2024.webp
END:VEVENT
BEGIN:VEVENT
DTSTART;VALUE=DATE:20250719
DTEND;VALUE=DATE:20250720
DTSTAMP:20260423T035642
CREATED:20250111T000250Z
LAST-MODIFIED:20250121T130438Z
UID:22357-1752883200-1752969599@triatlonromania.ro
SUMMARY:TriKids - in cadrul Timisoara Triathlon 2025
DESCRIPTION:• Organizator: Timișoara Triathlon • Locație: Timișoara • Hartă: maps.app.goo.gl/kDc6mRKSqbHCAxxE7 • WebSite: timisoaratriathlon.ro 
URL:https://triatlonromania.ro/eveniment/trikids-in-cadrul-timisoara-triathlon-2025/
LOCATION:Timisoara\, Timisoara\, Timis\, Romania
CATEGORIES:Etapa TRIKids,Eveniment National
ATTACH;FMTTYPE=image/webp:https://triatlonromania.ro/wp-content/uploads/2021/12/TriKids-logo-2022-wide.webp
END:VEVENT
BEGIN:VEVENT
DTSTART;VALUE=DATE:20250719
DTEND;VALUE=DATE:20250720
DTSTAMP:20260423T035642
CREATED:20250111T000250Z
LAST-MODIFIED:20250111T000250Z
UID:24087-1752883200-1752969599@triatlonromania.ro
SUMMARY:TriKids - in cadrul Timisoara Triathlon 2025
DESCRIPTION:• Organizator: Timișoara Triathlon • Locație: Timișoara • Hartă: maps.app.goo.gl/kDc6mRKSqbHCAxxE7 • WebSite: timisoaratriathlon.ro 
URL:https://triatlonromania.ro/eveniment/trikids-in-cadrul-timisoara-triathlon-2025-2/
LOCATION:Timisoara\, Timisoara\, Timis\, Romania
CATEGORIES:Etapa TRIKids,Eveniment National
ATTACH;FMTTYPE=image/webp:https://triatlonromania.ro/wp-content/uploads/2021/12/TriKids-logo-2022-wide.webp
END:VEVENT
END:VCALENDAR