BEGIN:VCALENDAR
VERSION:2.0
PRODID:-//Triatlon Romania - ECPv6.15.20//NONSGML v1.0//EN
CALSCALE:GREGORIAN
METHOD:PUBLISH
X-WR-CALNAME:Triatlon Romania
X-ORIGINAL-URL:https://triatlonromania.ro
X-WR-CALDESC:Evenimente pentru Triatlon Romania
REFRESH-INTERVAL;VALUE=DURATION:PT1H
X-Robots-Tag:noindex
X-PUBLISHED-TTL:PT1H
BEGIN:VTIMEZONE
TZID:Europe/Bucharest
BEGIN:DAYLIGHT
TZOFFSETFROM:+0200
TZOFFSETTO:+0300
TZNAME:EEST
DTSTART:20230326T010000
END:DAYLIGHT
BEGIN:STANDARD
TZOFFSETFROM:+0300
TZOFFSETTO:+0200
TZNAME:EET
DTSTART:20231029T010000
END:STANDARD
BEGIN:DAYLIGHT
TZOFFSETFROM:+0200
TZOFFSETTO:+0300
TZNAME:EEST
DTSTART:20240331T010000
END:DAYLIGHT
BEGIN:STANDARD
TZOFFSETFROM:+0300
TZOFFSETTO:+0200
TZNAME:EET
DTSTART:20241027T010000
END:STANDARD
BEGIN:DAYLIGHT
TZOFFSETFROM:+0200
TZOFFSETTO:+0300
TZNAME:EEST
DTSTART:20250330T010000
END:DAYLIGHT
BEGIN:STANDARD
TZOFFSETFROM:+0300
TZOFFSETTO:+0200
TZNAME:EET
DTSTART:20251026T010000
END:STANDARD
BEGIN:DAYLIGHT
TZOFFSETFROM:+0200
TZOFFSETTO:+0300
TZNAME:EEST
DTSTART:20260329T010000
END:DAYLIGHT
BEGIN:STANDARD
TZOFFSETFROM:+0300
TZOFFSETTO:+0200
TZNAME:EET
DTSTART:20261025T010000
END:STANDARD
END:VTIMEZONE
BEGIN:VEVENT
DTSTART;TZID=Europe/Bucharest:20241125T000000
DTEND;TZID=Europe/Bucharest:20241220T235959
DTSTAMP:20260419T165637
CREATED:20231126T190729Z
LAST-MODIFIED:20231126T190729Z
UID:24056-1732492800-1734739199@triatlonromania.ro
SUMMARY:Curs instructor de triatlon 2024
DESCRIPTION:00Zile00Ore00Minute
URL:https://triatlonromania.ro/eveniment/curs-instructor-triatlon-2024-2/
LOCATION:Complex Sportiv National „Lia Manoliu”\, Bd. Basarabia 37-39\, Bucuresti\, 022103\, Romania
ATTACH;FMTTYPE=image/webp:https://triatlonromania.ro/wp-content/uploads/2023/11/Triatlon-Romania-Logo-Calendar.webp
ORGANIZER;CN="FRTRI":MAILTO:office@triatlonromania.ro
END:VEVENT
BEGIN:VEVENT
DTSTART;TZID=Europe/Bucharest:20241125T000000
DTEND;TZID=Europe/Bucharest:20241220T235959
DTSTAMP:20260419T165637
CREATED:20231126T190729Z
LAST-MODIFIED:20241029T195618Z
UID:20560-1732492800-1734739199@triatlonromania.ro
SUMMARY:Curs instructor de triatlon 2024
DESCRIPTION:00Zile00Ore00Minute
URL:https://triatlonromania.ro/eveniment/curs-instructor-triatlon-2024/
LOCATION:Complex Sportiv National „Lia Manoliu”\, Bd. Basarabia 37-39\, Bucuresti\, 022103\, Romania
ATTACH;FMTTYPE=image/webp:https://triatlonromania.ro/wp-content/uploads/2023/11/Triatlon-Romania-Logo-Calendar.webp
ORGANIZER;CN="FRTRI":MAILTO:office@triatlonromania.ro
END:VEVENT
BEGIN:VEVENT
DTSTART;TZID=Europe/Bucharest:20241222T000000
DTEND;TZID=Europe/Bucharest:20241222T235959
DTSTAMP:20260419T165637
CREATED:20231114T204438Z
LAST-MODIFIED:20241113T183953Z
UID:20101-1734825600-1734911999@triatlonromania.ro
SUMMARY:CN Cros Triatlon - in cadrul Winter TRI 2024
DESCRIPTION:00Zile00Ore00Minute\n\n\n\n\n\n\n\nOrganizator: Federația Română de Triatlon & Smart Atletic
URL:https://triatlonromania.ro/eveniment/cn-cros-triatlon-2024-2/
LOCATION:Complexul Olimpic „Sydney 2000”\, Izvorani\, Romania
CATEGORIES:Campionat National,Eveniment National
ATTACH;FMTTYPE=image/webp:https://triatlonromania.ro/wp-content/uploads/2023/11/CN-XR-Cross-Road-2024.webp
END:VEVENT
BEGIN:VEVENT
DTSTART;TZID=Europe/Bucharest:20241222T000000
DTEND;TZID=Europe/Bucharest:20241222T235959
DTSTAMP:20260419T165637
CREATED:20231114T204438Z
LAST-MODIFIED:20231114T204438Z
UID:24012-1734825600-1734911999@triatlonromania.ro
SUMMARY:CN Cros Triatlon - in cadrul Winter TRI 2024
DESCRIPTION:00Zile00Ore00Minute\n\n\n\n\n\n\n\nOrganizator: Federația Română de Triatlon & Smart Atletic
URL:https://triatlonromania.ro/eveniment/cn-cros-triatlon-2024-2-2/
LOCATION:Complexul Olimpic „Sydney 2000”\, Izvorani\, Romania
CATEGORIES:Campionat National,Eveniment National
ATTACH;FMTTYPE=image/webp:https://triatlonromania.ro/wp-content/uploads/2023/11/CN-XR-Cross-Road-2024.webp
END:VEVENT
BEGIN:VEVENT
DTSTART;TZID=Europe/Bucharest:20241222T000000
DTEND;TZID=Europe/Bucharest:20241222T235959
DTSTAMP:20260419T165637
CREATED:20241113T184227Z
LAST-MODIFIED:20241113T184227Z
UID:24065-1734825600-1734911999@triatlonromania.ro
SUMMARY:TRIKids - in cadrul Winter TRI 2024
DESCRIPTION:00Zile00Ore00Minute\n\n\n\n\n\n\n\nOrganizator: Federația Română de Triatlon & Smart Atletic
URL:https://triatlonromania.ro/eveniment/trikikds-wintertri-2024-2/
LOCATION:Complexul Olimpic „Sydney 2000”\, Izvorani\, Romania
CATEGORIES:Etapa TRIKids,Eveniment National
ATTACH;FMTTYPE=image/webp:https://triatlonromania.ro/wp-content/uploads/2021/12/TriKids-logo-2022-wide.webp
END:VEVENT
BEGIN:VEVENT
DTSTART;TZID=Europe/Bucharest:20241222T000000
DTEND;TZID=Europe/Bucharest:20241222T235959
DTSTAMP:20260419T165637
CREATED:20241113T184227Z
LAST-MODIFIED:20241113T184230Z
UID:22060-1734825600-1734911999@triatlonromania.ro
SUMMARY:TRIKids - in cadrul Winter TRI 2024
DESCRIPTION:00Zile00Ore00Minute\n\n\n\n\n\n\n\nOrganizator: Federația Română de Triatlon & Smart Atletic
URL:https://triatlonromania.ro/eveniment/trikikds-wintertri-2024/
LOCATION:Complexul Olimpic „Sydney 2000”\, Izvorani\, Romania
CATEGORIES:Etapa TRIKids,Eveniment National
ATTACH;FMTTYPE=image/webp:https://triatlonromania.ro/wp-content/uploads/2021/12/TriKids-logo-2022-wide.webp
END:VEVENT
BEGIN:VEVENT
DTSTART;VALUE=DATE:20250208
DTEND;VALUE=DATE:20250209
DTSTAMP:20260419T165637
CREATED:20250109T010853Z
LAST-MODIFIED:20250109T011653Z
UID:22168-1738972800-1739059199@triatlonromania.ro
SUMMARY:Testări 2025
DESCRIPTION: • Organizator: Federația Română de Triatlon  • WebSite: triatlonromania.ro
URL:https://triatlonromania.ro/eveniment/testari-2025/
CATEGORIES:Eveniment National
ATTACH;FMTTYPE=image/webp:https://triatlonromania.ro/wp-content/uploads/2023/11/Triatlon-Romania-Logo-Calendar.webp
END:VEVENT
BEGIN:VEVENT
DTSTART;VALUE=DATE:20250208
DTEND;VALUE=DATE:20250209
DTSTAMP:20260419T165637
CREATED:20250109T010853Z
LAST-MODIFIED:20250109T010853Z
UID:24067-1738972800-1739059199@triatlonromania.ro
SUMMARY:Testări 2025
DESCRIPTION: • Organizator: Federația Română de Triatlon  • WebSite: triatlonromania.ro
URL:https://triatlonromania.ro/eveniment/testari-2025-2/
CATEGORIES:Eveniment National
ATTACH;FMTTYPE=image/webp:https://triatlonromania.ro/wp-content/uploads/2023/11/Triatlon-Romania-Logo-Calendar.webp
END:VEVENT
BEGIN:VEVENT
DTSTART;VALUE=DATE:20250301
DTEND;VALUE=DATE:20250302
DTSTAMP:20260419T165637
CREATED:20250108T234449Z
LAST-MODIFIED:20250108T234449Z
UID:24066-1740787200-1740873599@triatlonromania.ro
SUMMARY:Gala Triatlonului Românesc 2024
DESCRIPTION: • Organizator: Federația Română de Triatlon  • Locație: Izvorani\, Complex Olimpic Sydney 2000\, Sala Polivalentă  • Hartă: maps.app.goo.gl/UocdUpo5efsGj4KV6  • WebSite: triatlonromania.ro
URL:https://triatlonromania.ro/eveniment/gala-triatlonului-romanesc-2024-2/
LOCATION:Complexul Olimpic „Sydney 2000”\, Izvorani\, Romania
CATEGORIES:Eveniment National
ATTACH;FMTTYPE=image/webp:https://triatlonromania.ro/wp-content/uploads/2021/12/Gala-TRI-RO.webp
ORGANIZER;CN="FRTRI":MAILTO:office@triatlonromania.ro
END:VEVENT
BEGIN:VEVENT
DTSTART;VALUE=DATE:20250301
DTEND;VALUE=DATE:20250302
DTSTAMP:20260419T165637
CREATED:20250108T234449Z
LAST-MODIFIED:20250205T153753Z
UID:22131-1740787200-1740873599@triatlonromania.ro
SUMMARY:Gala Triatlonului Românesc 2024
DESCRIPTION: • Organizator: Federația Română de Triatlon  • Locație: Izvorani\, Complex Olimpic Sydney 2000\, Sala Polivalentă  • Hartă: maps.app.goo.gl/UocdUpo5efsGj4KV6  • WebSite: triatlonromania.ro
URL:https://triatlonromania.ro/eveniment/gala-triatlonului-romanesc-2024/
LOCATION:Complexul Olimpic „Sydney 2000”\, Izvorani\, Romania
CATEGORIES:Eveniment National
ATTACH;FMTTYPE=image/webp:https://triatlonromania.ro/wp-content/uploads/2021/12/Gala-TRI-RO.webp
ORGANIZER;CN="FRTRI":MAILTO:office@triatlonromania.ro
END:VEVENT
BEGIN:VEVENT
DTSTART;VALUE=DATE:20250301
DTEND;VALUE=DATE:20250302
DTSTAMP:20260419T165637
CREATED:20250113T230845Z
LAST-MODIFIED:20250113T231503Z
UID:22428-1740787200-1740873599@triatlonromania.ro
SUMMARY:TriKids by BSC 2025
DESCRIPTION:• Organizator: BSC• Locație: Complex Sportiv National „Lia Manoliu” – București• Hartă: maps.app.goo.gl/sepALYs89TBFRxDJA • WebSite: bsc.ro 
URL:https://triatlonromania.ro/eveniment/trikids-by-bsc-2025/
LOCATION:Complex Sportiv National „Lia Manoliu”\, Bd. Basarabia 37-39\, Bucuresti\, 022103\, Romania
CATEGORIES:Etapa TRIKids,Eveniment National
ATTACH;FMTTYPE=image/webp:https://triatlonromania.ro/wp-content/uploads/2021/12/TriKids-logo-2022-wide.webp
ORGANIZER;CN="BSC (Bucharest Sport Club)":MAILTO:rezervari@bsc.ro
END:VEVENT
BEGIN:VEVENT
DTSTART;VALUE=DATE:20250301
DTEND;VALUE=DATE:20250302
DTSTAMP:20260419T165637
CREATED:20250113T230845Z
LAST-MODIFIED:20250113T230845Z
UID:24090-1740787200-1740873599@triatlonromania.ro
SUMMARY:TriKids by BSC 2025
DESCRIPTION:• Organizator: BSC• Locație: Complex Sportiv National „Lia Manoliu” – București• Hartă: maps.app.goo.gl/sepALYs89TBFRxDJA • WebSite: bsc.ro 
URL:https://triatlonromania.ro/eveniment/trikids-by-bsc-2025-2/
LOCATION:Complex Sportiv National „Lia Manoliu”\, Bd. Basarabia 37-39\, Bucuresti\, 022103\, Romania
CATEGORIES:Etapa TRIKids,Eveniment National
ATTACH;FMTTYPE=image/webp:https://triatlonromania.ro/wp-content/uploads/2021/12/TriKids-logo-2022-wide.webp
ORGANIZER;CN="BSC (Bucharest Sport Club)":MAILTO:rezervari@bsc.ro
END:VEVENT
BEGIN:VEVENT
DTSTART;VALUE=DATE:20250322
DTEND;VALUE=DATE:20250323
DTSTAMP:20260419T165637
CREATED:20250109T021515Z
LAST-MODIFIED:20250304T082842Z
UID:22216-1742601600-1742687999@triatlonromania.ro
SUMMARY:CN Duatlon Sprint & TriKids 2025
DESCRIPTION:• Organizator: Federația Română de Triatlon • Locație: Ploiești • Hartă: maps.app.goo.gl/sYg48sC3ETngzH5H7 • WebSite: triatlonromania.ro 
URL:https://triatlonromania.ro/eveniment/cn-duatlon-sprint-2025/
LOCATION:Ploiesti\, Ploiesti\, Prahova\, Romania
CATEGORIES:Campionat National,Eveniment National
ATTACH;FMTTYPE=image/webp:https://triatlonromania.ro/wp-content/uploads/2025/01/CN-Duatlon-Sprint-2025.webp
ORGANIZER;CN="FRTRI":MAILTO:office@triatlonromania.ro
END:VEVENT
BEGIN:VEVENT
DTSTART;VALUE=DATE:20250322
DTEND;VALUE=DATE:20250323
DTSTAMP:20260419T165637
CREATED:20250109T021515Z
LAST-MODIFIED:20250109T021515Z
UID:24072-1742601600-1742687999@triatlonromania.ro
SUMMARY:CN Duatlon Sprint & TriKids 2025
DESCRIPTION:• Organizator: Federația Română de Triatlon • Locație: Ploiești • Hartă: maps.app.goo.gl/sYg48sC3ETngzH5H7 • WebSite: triatlonromania.ro 
URL:https://triatlonromania.ro/eveniment/cn-duatlon-sprint-2025-2/
LOCATION:Ploiesti\, Ploiesti\, Prahova\, Romania
CATEGORIES:Campionat National,Eveniment National
ATTACH;FMTTYPE=image/webp:https://triatlonromania.ro/wp-content/uploads/2025/01/CN-Duatlon-Sprint-2025.webp
ORGANIZER;CN="FRTRI":MAILTO:office@triatlonromania.ro
END:VEVENT
BEGIN:VEVENT
DTSTART;VALUE=DATE:20250412
DTEND;VALUE=DATE:20250413
DTSTAMP:20260419T165637
CREATED:20250109T012352Z
LAST-MODIFIED:20250326T204805Z
UID:22178-1744416000-1744502399@triatlonromania.ro
SUMMARY:Campionatul Balcanic de Cross Duatlon & TriKids 2025
DESCRIPTION:• Organizator: Federația Română de Triatlon & Ride Competition • Locație: Iarcuri Cornești – Timiș • Hartă: maps.app.goo.gl/Mi5eW9qdWKGYod3t8 • WebSite: ridecompetition.ro 
URL:https://triatlonromania.ro/eveniment/campionatul-balcanic-de-cross-duatlon-trikids-2025/
LOCATION:Iarcuri Cornesti\, Timis\, Romania
CATEGORIES:Balcaniada,Etapa TRIKids,Eveniment International,Eveniment National
ATTACH;FMTTYPE=image/webp:https://triatlonromania.ro/wp-content/uploads/2023/11/Triatlon-Romania-Logo-Calendar.webp
ORGANIZER;CN="FRTRI":MAILTO:office@triatlonromania.ro
END:VEVENT
BEGIN:VEVENT
DTSTART;VALUE=DATE:20250412
DTEND;VALUE=DATE:20250413
DTSTAMP:20260419T165637
CREATED:20250109T012352Z
LAST-MODIFIED:20250109T012352Z
UID:24068-1744416000-1744502399@triatlonromania.ro
SUMMARY:Campionatul Balcanic de Cross Duatlon & TriKids 2025
DESCRIPTION:• Organizator: Federația Română de Triatlon & Ride Competition • Locație: Iarcuri Cornești – Timiș • Hartă: maps.app.goo.gl/Mi5eW9qdWKGYod3t8 • WebSite: ridecompetition.ro 
URL:https://triatlonromania.ro/eveniment/campionatul-balcanic-de-cross-duatlon-trikids-2025-2/
LOCATION:Iarcuri Cornesti\, Timis\, Romania
CATEGORIES:Balcaniada,Etapa TRIKids,Eveniment International,Eveniment National
ATTACH;FMTTYPE=image/webp:https://triatlonromania.ro/wp-content/uploads/2023/11/Triatlon-Romania-Logo-Calendar.webp
ORGANIZER;CN="FRTRI":MAILTO:office@triatlonromania.ro
END:VEVENT
BEGIN:VEVENT
DTSTART;VALUE=DATE:20250503
DTEND;VALUE=DATE:20250504
DTSTAMP:20260419T165637
CREATED:20250109T014555Z
LAST-MODIFIED:20250109T014555Z
UID:24069-1746230400-1746316799@triatlonromania.ro
SUMMARY:CN Cros Duatlon & TriKids 2025
DESCRIPTION:• Organizator: Unstoppable Sport Club • Locație: Cernica – Ilfov • Hartă: maps.app.goo.gl/6LyJswT74d3foXvW8 • WebSite: unstoppable.ro 
URL:https://triatlonromania.ro/eveniment/cn-cros-duatlon-trikids-2025-2/
LOCATION:Cernica\, Cernica\, Ilfov\, Romania
CATEGORIES:Campionat National,Eveniment National
ATTACH;FMTTYPE=image/webp:https://triatlonromania.ro/wp-content/uploads/2025/01/CN-Cros-Duatlon-2025.webp
ORGANIZER;CN="Unstoppable Sport Club":MAILTO:contact@unstoppablesport.club
END:VEVENT
BEGIN:VEVENT
DTSTART;VALUE=DATE:20250503
DTEND;VALUE=DATE:20250504
DTSTAMP:20260419T165637
CREATED:20250109T014555Z
LAST-MODIFIED:20250317T104755Z
UID:22190-1746230400-1746316799@triatlonromania.ro
SUMMARY:CN Cros Duatlon & TriKids 2025
DESCRIPTION:• Organizator: Unstoppable Sport Club • Locație: Cernica – Ilfov • Hartă: maps.app.goo.gl/6LyJswT74d3foXvW8 • WebSite: unstoppable.ro 
URL:https://triatlonromania.ro/eveniment/cn-cros-duatlon-trikids-2025/
LOCATION:Cernica\, Cernica\, Ilfov\, Romania
CATEGORIES:Campionat National,Eveniment National
ATTACH;FMTTYPE=image/webp:https://triatlonromania.ro/wp-content/uploads/2025/01/CN-Cros-Duatlon-2025.webp
ORGANIZER;CN="Unstoppable Sport Club":MAILTO:contact@unstoppablesport.club
END:VEVENT
BEGIN:VEVENT
DTSTART;VALUE=DATE:20250505
DTEND;VALUE=DATE:20250512
DTSTAMP:20260419T165637
CREATED:20250109T015250Z
LAST-MODIFIED:20250109T015250Z
UID:24070-1746403200-1747007999@triatlonromania.ro
SUMMARY:Cantonament Balcanic copii si cadeti 2025
DESCRIPTION:• Organizator: Federația Română de Triatlon • Locație: Izvorani • Hartă: maps.app.goo.gl/KKV5pRyqWoqqy6sQ8 • WebSite: triatlonromania.ro 
URL:https://triatlonromania.ro/eveniment/cantonament-balcanic-copii-si-cadeti-2025-2/
LOCATION:Izvorani\, Izvorani\, Romania
CATEGORIES:Eveniment International,Eveniment National
ATTACH;FMTTYPE=image/webp:https://triatlonromania.ro/wp-content/uploads/2023/11/Triatlon-Romania-Logo-Calendar.webp
ORGANIZER;CN="FRTRI":MAILTO:office@triatlonromania.ro
END:VEVENT
BEGIN:VEVENT
DTSTART;VALUE=DATE:20250505
DTEND;VALUE=DATE:20250512
DTSTAMP:20260419T165637
CREATED:20250109T015250Z
LAST-MODIFIED:20250110T135035Z
UID:22201-1746403200-1747007999@triatlonromania.ro
SUMMARY:Cantonament Balcanic copii si cadeti 2025
DESCRIPTION:• Organizator: Federația Română de Triatlon • Locație: Izvorani • Hartă: maps.app.goo.gl/KKV5pRyqWoqqy6sQ8 • WebSite: triatlonromania.ro 
URL:https://triatlonromania.ro/eveniment/cantonament-balcanic-copii-si-cadeti-2025/
LOCATION:Izvorani\, Izvorani\, Romania
CATEGORIES:Eveniment International,Eveniment National
ATTACH;FMTTYPE=image/webp:https://triatlonromania.ro/wp-content/uploads/2023/11/Triatlon-Romania-Logo-Calendar.webp
ORGANIZER;CN="FRTRI":MAILTO:office@triatlonromania.ro
END:VEVENT
BEGIN:VEVENT
DTSTART;VALUE=DATE:20250510
DTEND;VALUE=DATE:20250511
DTSTAMP:20260419T165637
CREATED:20250109T020056Z
LAST-MODIFIED:20250109T020056Z
UID:24071-1746835200-1746921599@triatlonromania.ro
SUMMARY:Campionat Balcanic de Bazin Supersprint 2025
DESCRIPTION:• Organizator: Federația Română de Triatlon • Locație: Izvorani • Hartă: maps.app.goo.gl/KKV5pRyqWoqqy6sQ8 • WebSite: triatlonromania.ro 
URL:https://triatlonromania.ro/eveniment/campionat-balcanic-de-bazin-supersprint-2025-2/
LOCATION:Izvorani\, Izvorani\, Romania
CATEGORIES:Balcaniada,Eveniment International
ATTACH;FMTTYPE=image/webp:https://triatlonromania.ro/wp-content/uploads/2023/11/Triatlon-Romania-Logo-Calendar.webp
ORGANIZER;CN="FRTRI":MAILTO:office@triatlonromania.ro
END:VEVENT
BEGIN:VEVENT
DTSTART;VALUE=DATE:20250510
DTEND;VALUE=DATE:20250511
DTSTAMP:20260419T165637
CREATED:20250109T020056Z
LAST-MODIFIED:20250415T172035Z
UID:22206-1746835200-1746921599@triatlonromania.ro
SUMMARY:Campionat Balcanic de Bazin Supersprint 2025
DESCRIPTION:• Organizator: Federația Română de Triatlon • Locație: Izvorani • Hartă: maps.app.goo.gl/KKV5pRyqWoqqy6sQ8 • WebSite: triatlonromania.ro 
URL:https://triatlonromania.ro/eveniment/campionat-balcanic-de-bazin-supersprint-2025/
LOCATION:Izvorani\, Izvorani\, Romania
CATEGORIES:Balcaniada,Eveniment International
ATTACH;FMTTYPE=image/webp:https://triatlonromania.ro/wp-content/uploads/2023/11/Triatlon-Romania-Logo-Calendar.webp
ORGANIZER;CN="FRTRI":MAILTO:office@triatlonromania.ro
END:VEVENT
BEGIN:VEVENT
DTSTART;VALUE=DATE:20250510
DTEND;VALUE=DATE:20250511
DTSTAMP:20260419T165637
CREATED:20250415T172108Z
LAST-MODIFIED:20250415T172108Z
UID:24093-1746835200-1746921599@triatlonromania.ro
SUMMARY:CN Triatlon Bazin Supersprint & Trikids - in cadrul Campionatului Balcanic de Bazin Supersprint 2025
DESCRIPTION:• Organizator: Federația Română de Triatlon • Locație: Izvorani • Hartă: maps.app.goo.gl/KKV5pRyqWoqqy6sQ8 • WebSite: triatlonromania.ro 
URL:https://triatlonromania.ro/eveniment/cn-triatlon-bazin-supersprint-trikids-in-cadrul-campionatului-balcanic-de-bazin-supersprint-2025-2/
LOCATION:Izvorani\, Izvorani\, Romania
CATEGORIES:Campionat National,Etapa TRIKids,Eveniment National
ATTACH;FMTTYPE=image/webp:https://triatlonromania.ro/wp-content/uploads/2025/04/CN-Triatlon-Bazin-Supersprint-2025.webp
ORGANIZER;CN="FRTRI":MAILTO:office@triatlonromania.ro
END:VEVENT
BEGIN:VEVENT
DTSTART;VALUE=DATE:20250510
DTEND;VALUE=DATE:20250511
DTSTAMP:20260419T165637
CREATED:20250415T172108Z
LAST-MODIFIED:20250415T172432Z
UID:22757-1746835200-1746921599@triatlonromania.ro
SUMMARY:CN Triatlon Bazin Supersprint & Trikids - in cadrul Campionatului Balcanic de Bazin Supersprint 2025
DESCRIPTION:• Organizator: Federația Română de Triatlon • Locație: Izvorani • Hartă: maps.app.goo.gl/KKV5pRyqWoqqy6sQ8 • WebSite: triatlonromania.ro 
URL:https://triatlonromania.ro/eveniment/cn-triatlon-bazin-supersprint-trikids-in-cadrul-campionatului-balcanic-de-bazin-supersprint-2025/
LOCATION:Izvorani\, Izvorani\, Romania
CATEGORIES:Campionat National,Etapa TRIKids,Eveniment National
ATTACH;FMTTYPE=image/webp:https://triatlonromania.ro/wp-content/uploads/2025/04/CN-Triatlon-Bazin-Supersprint-2025.webp
ORGANIZER;CN="FRTRI":MAILTO:office@triatlonromania.ro
END:VEVENT
BEGIN:VEVENT
DTSTART;VALUE=DATE:20250511
DTEND;VALUE=DATE:20250512
DTSTAMP:20260419T165637
CREATED:20250420T203702Z
LAST-MODIFIED:20250420T203703Z
UID:22784-1746921600-1747007999@triatlonromania.ro
SUMMARY:CN Stafeta Mixta Supersprint & Stafeta Mixta Trikids - in cadrul Campionatului Balcanic de Bazin Supersprint 2025
DESCRIPTION:• Organizator: Federația Română de Triatlon • Locație: Izvorani • Hartă: maps.app.goo.gl/KKV5pRyqWoqqy6sQ8 • WebSite: triatlonromania.ro 
URL:https://triatlonromania.ro/eveniment/cn-stafeta-mixta-supersprint-stafeta-mixta-trikids-2025/
LOCATION:Izvorani\, Izvorani\, Romania
CATEGORIES:Campionat National,Etapa TRIKids,Eveniment National
ATTACH;FMTTYPE=image/webp:https://triatlonromania.ro/wp-content/uploads/2025/04/CN-Triatlon-Bazin-Supersprint-2025.webp
ORGANIZER;CN="FRTRI":MAILTO:office@triatlonromania.ro
END:VEVENT
BEGIN:VEVENT
DTSTART;VALUE=DATE:20250511
DTEND;VALUE=DATE:20250512
DTSTAMP:20260419T165637
CREATED:20250420T203702Z
LAST-MODIFIED:20250420T203702Z
UID:24094-1746921600-1747007999@triatlonromania.ro
SUMMARY:CN Stafeta Mixta Supersprint & Stafeta Mixta Trikids - in cadrul Campionatului Balcanic de Bazin Supersprint 2025
DESCRIPTION:• Organizator: Federația Română de Triatlon • Locație: Izvorani • Hartă: maps.app.goo.gl/KKV5pRyqWoqqy6sQ8 • WebSite: triatlonromania.ro 
URL:https://triatlonromania.ro/eveniment/cn-stafeta-mixta-supersprint-stafeta-mixta-trikids-2025-2/
LOCATION:Izvorani\, Izvorani\, Romania
CATEGORIES:Campionat National,Etapa TRIKids,Eveniment National
ATTACH;FMTTYPE=image/webp:https://triatlonromania.ro/wp-content/uploads/2025/04/CN-Triatlon-Bazin-Supersprint-2025.webp
ORGANIZER;CN="FRTRI":MAILTO:office@triatlonromania.ro
END:VEVENT
BEGIN:VEVENT
DTSTART;VALUE=DATE:20250525
DTEND;VALUE=DATE:20250526
DTSTAMP:20260419T165637
CREATED:20250113T224520Z
LAST-MODIFIED:20250113T224622Z
UID:22415-1748131200-1748217599@triatlonromania.ro
SUMMARY:CN Triatlon SuperSprint 2025
DESCRIPTION:• Organizator: Aqua Vita Delta Tulcea • Locație: Tulcea • Hartă: maps.app.goo.gl/vye48zzgTLLVtGtE9 • WebSite: aquavitadelta.ro 
URL:https://triatlonromania.ro/eveniment/cn-triatlon-supersprint-2025/
LOCATION:Tulcea\, Tulcea\, Romania
CATEGORIES:Campionat National,Eveniment National
ATTACH;FMTTYPE=image/webp:https://triatlonromania.ro/wp-content/uploads/2025/01/CN-Triatlon-Supersprint-2025.webp
ORGANIZER;CN="Aqua Vita Delta Tulcea":MAILTO:aquavitadelta@yahoo.com
END:VEVENT
BEGIN:VEVENT
DTSTART;VALUE=DATE:20250525
DTEND;VALUE=DATE:20250526
DTSTAMP:20260419T165637
CREATED:20250113T224520Z
LAST-MODIFIED:20250113T224520Z
UID:24089-1748131200-1748217599@triatlonromania.ro
SUMMARY:CN Triatlon SuperSprint 2025
DESCRIPTION:• Organizator: Aqua Vita Delta Tulcea • Locație: Tulcea • Hartă: maps.app.goo.gl/vye48zzgTLLVtGtE9 • WebSite: aquavitadelta.ro 
URL:https://triatlonromania.ro/eveniment/cn-triatlon-supersprint-2025-2/
LOCATION:Tulcea\, Tulcea\, Romania
CATEGORIES:Campionat National,Eveniment National
ATTACH;FMTTYPE=image/webp:https://triatlonromania.ro/wp-content/uploads/2025/01/CN-Triatlon-Supersprint-2025.webp
ORGANIZER;CN="Aqua Vita Delta Tulcea":MAILTO:aquavitadelta@yahoo.com
END:VEVENT
BEGIN:VEVENT
DTSTART;VALUE=DATE:20250525
DTEND;VALUE=DATE:20250526
DTSTAMP:20260419T165637
CREATED:20250120T164355Z
LAST-MODIFIED:20250120T164355Z
UID:24091-1748131200-1748217599@triatlonromania.ro
SUMMARY:TriKids Tulcea 2025
DESCRIPTION:• Organizator: Aqua Vita Delta Tulcea • Locație: Tulcea • Hartă: maps.app.goo.gl/vye48zzgTLLVtGtE9 • WebSite: aquavitadelta.ro 
URL:https://triatlonromania.ro/eveniment/trikids-tulcea-2025-2/
LOCATION:Tulcea\, Tulcea\, Romania
CATEGORIES:Etapa TRIKids,Eveniment National
ATTACH;FMTTYPE=image/webp:https://triatlonromania.ro/wp-content/uploads/2021/12/TriKids-logo-2022-wide.webp
ORGANIZER;CN="Aqua Vita Delta Tulcea":MAILTO:aquavitadelta@yahoo.com
END:VEVENT
BEGIN:VEVENT
DTSTART;VALUE=DATE:20250525
DTEND;VALUE=DATE:20250526
DTSTAMP:20260419T165637
CREATED:20250120T164355Z
LAST-MODIFIED:20250120T164508Z
UID:22448-1748131200-1748217599@triatlonromania.ro
SUMMARY:TriKids Tulcea 2025
DESCRIPTION:• Organizator: Aqua Vita Delta Tulcea • Locație: Tulcea • Hartă: maps.app.goo.gl/vye48zzgTLLVtGtE9 • WebSite: aquavitadelta.ro 
URL:https://triatlonromania.ro/eveniment/trikids-tulcea-2025/
LOCATION:Tulcea\, Tulcea\, Romania
CATEGORIES:Etapa TRIKids,Eveniment National
ATTACH;FMTTYPE=image/webp:https://triatlonromania.ro/wp-content/uploads/2021/12/TriKids-logo-2022-wide.webp
ORGANIZER;CN="Aqua Vita Delta Tulcea":MAILTO:aquavitadelta@yahoo.com
END:VEVENT
END:VCALENDAR