BEGIN:VCALENDAR
VERSION:2.0
PRODID:-//Triatlon Romania - ECPv6.15.20//NONSGML v1.0//EN
CALSCALE:GREGORIAN
METHOD:PUBLISH
X-WR-CALNAME:Triatlon Romania
X-ORIGINAL-URL:https://triatlonromania.ro
X-WR-CALDESC:Evenimente pentru Triatlon Romania
REFRESH-INTERVAL;VALUE=DURATION:PT1H
X-Robots-Tag:noindex
X-PUBLISHED-TTL:PT1H
BEGIN:VTIMEZONE
TZID:Europe/Bucharest
BEGIN:DAYLIGHT
TZOFFSETFROM:+0200
TZOFFSETTO:+0300
TZNAME:EEST
DTSTART:20230326T010000
END:DAYLIGHT
BEGIN:STANDARD
TZOFFSETFROM:+0300
TZOFFSETTO:+0200
TZNAME:EET
DTSTART:20231029T010000
END:STANDARD
BEGIN:DAYLIGHT
TZOFFSETFROM:+0200
TZOFFSETTO:+0300
TZNAME:EEST
DTSTART:20240331T010000
END:DAYLIGHT
BEGIN:STANDARD
TZOFFSETFROM:+0300
TZOFFSETTO:+0200
TZNAME:EET
DTSTART:20241027T010000
END:STANDARD
BEGIN:DAYLIGHT
TZOFFSETFROM:+0200
TZOFFSETTO:+0300
TZNAME:EEST
DTSTART:20250330T010000
END:DAYLIGHT
BEGIN:STANDARD
TZOFFSETFROM:+0300
TZOFFSETTO:+0200
TZNAME:EET
DTSTART:20251026T010000
END:STANDARD
END:VTIMEZONE
BEGIN:VEVENT
DTSTART;TZID=Europe/Bucharest:20240804T000000
DTEND;TZID=Europe/Bucharest:20240804T235959
DTSTAMP:20260421T183104
CREATED:20231115T143137Z
LAST-MODIFIED:20240403T170307Z
UID:20266-1722729600-1722815999@triatlonromania.ro
SUMMARY:Sibiu Triathlon Challenge 2024
DESCRIPTION:00Zile00Ore00Minute\n\n\n\n\n\n\n\n\n\nCompetitie de Triatlon
URL:https://triatlonromania.ro/eveniment/sibiu-triathlon-challenge-2024/
LOCATION:Sibiu\, Sibiu\, Sibiu\, Romania
CATEGORIES:Eveniment National
ATTACH;FMTTYPE=image/webp:https://triatlonromania.ro/wp-content/uploads/2021/12/Sibiu-Triathlon-Challenge-2022-logo.webp
END:VEVENT
BEGIN:VEVENT
DTSTART;TZID=Europe/Bucharest:20240804T000000
DTEND;TZID=Europe/Bucharest:20240804T235959
DTSTAMP:20260421T183104
CREATED:20231115T143137Z
LAST-MODIFIED:20231115T143137Z
UID:24042-1722729600-1722815999@triatlonromania.ro
SUMMARY:Sibiu Triathlon Challenge 2024
DESCRIPTION:00Zile00Ore00Minute\n\n\n\n\n\n\n\n\n\nCompetitie de Triatlon
URL:https://triatlonromania.ro/eveniment/sibiu-triathlon-challenge-2024-2/
LOCATION:Sibiu\, Sibiu\, Sibiu\, Romania
CATEGORIES:Eveniment National
ATTACH;FMTTYPE=image/webp:https://triatlonromania.ro/wp-content/uploads/2021/12/Sibiu-Triathlon-Challenge-2022-logo.webp
END:VEVENT
END:VCALENDAR