BEGIN:VCALENDAR
VERSION:2.0
PRODID:-//Triatlon Romania - ECPv6.15.20//NONSGML v1.0//EN
CALSCALE:GREGORIAN
METHOD:PUBLISH
X-WR-CALNAME:Triatlon Romania
X-ORIGINAL-URL:https://triatlonromania.ro
X-WR-CALDESC:Evenimente pentru Triatlon Romania
REFRESH-INTERVAL;VALUE=DURATION:PT1H
X-Robots-Tag:noindex
X-PUBLISHED-TTL:PT1H
BEGIN:VTIMEZONE
TZID:Europe/Bucharest
BEGIN:DAYLIGHT
TZOFFSETFROM:+0200
TZOFFSETTO:+0300
TZNAME:EEST
DTSTART:20250330T010000
END:DAYLIGHT
BEGIN:STANDARD
TZOFFSETFROM:+0300
TZOFFSETTO:+0200
TZNAME:EET
DTSTART:20251026T010000
END:STANDARD
BEGIN:DAYLIGHT
TZOFFSETFROM:+0200
TZOFFSETTO:+0300
TZNAME:EEST
DTSTART:20260329T010000
END:DAYLIGHT
BEGIN:STANDARD
TZOFFSETFROM:+0300
TZOFFSETTO:+0200
TZNAME:EET
DTSTART:20261025T010000
END:STANDARD
BEGIN:DAYLIGHT
TZOFFSETFROM:+0200
TZOFFSETTO:+0300
TZNAME:EEST
DTSTART:20270328T010000
END:DAYLIGHT
BEGIN:STANDARD
TZOFFSETFROM:+0300
TZOFFSETTO:+0200
TZNAME:EET
DTSTART:20271031T010000
END:STANDARD
END:VTIMEZONE
BEGIN:VEVENT
DTSTART;VALUE=DATE:20260307
DTEND;VALUE=DATE:20260308
DTSTAMP:20260421T134855
CREATED:20251217T204319Z
LAST-MODIFIED:20251217T204319Z
UID:24098-1772841600-1772927999@triatlonromania.ro
SUMMARY:Europe Triathlon Congress 2026
DESCRIPTION: • Organizator: Federatia Romana de Triatlon • WebSite: triatlonromania.ro • Locatie: Bucuresti
URL:https://triatlonromania.ro/eveniment/europe-triathlon-congress-2026/
LOCATION:Bucuresti\, Bucuresti\, Bucuresti\, Romania
CATEGORIES:Eveniment International
ATTACH;FMTTYPE=image/webp:https://triatlonromania.ro/wp-content/uploads/2025/12/europe-triathlon.webp
ORGANIZER;CN="FRTRI":MAILTO:office@triatlonromania.ro
END:VEVENT
BEGIN:VEVENT
DTSTART;VALUE=DATE:20260314
DTEND;VALUE=DATE:20260315
DTSTAMP:20260421T134855
CREATED:20260305T131426Z
LAST-MODIFIED:20260305T134110Z
UID:24547-1773446400-1773532799@triatlonromania.ro
SUMMARY:Bareme Nationale de Triatlon 2026
DESCRIPTION:• Tip competitie: Bareme Naționale de Triatlon • Organizator: Federația Română de Triatlon • WebSite: triatlonromania.ro  • Locatie: Complex Sydney 2000 Izvorani
URL:https://triatlonromania.ro/eveniment/bareme-nationale-de-triatlon-2026/
LOCATION:Complexul Olimpic „Sydney 2000”\, Izvorani\, Romania
CATEGORIES:Bareme Nationale,Eveniment National
ATTACH;FMTTYPE=image/webp:https://triatlonromania.ro/wp-content/uploads/2026/03/Bareme-Nationale-Triatlon-2026-c.webp
ORGANIZER;CN="Federa%C8%9Bia Rom%C3%A2n%C4%83 de Triatlon":MAILTO:office@triatlonromania.ro
END:VEVENT
BEGIN:VEVENT
DTSTART;VALUE=DATE:20260321
DTEND;VALUE=DATE:20260322
DTSTAMP:20260421T134855
CREATED:20251217T205337Z
LAST-MODIFIED:20251217T205337Z
UID:24099-1774051200-1774137599@triatlonromania.ro
SUMMARY:TRIKids Aquatlon by Sport Guru - Pro Speed 2026
DESCRIPTION: • Tip competitie: Aquatlon • Organizator: PRO Speed Club • WebSite: triatlonromania.ro • Locatie: Complexul Sportiv National Lia Manoliu\, Bucuresti • Harta: https://maps.app.goo.gl/Av5SJxywWsF2jeoq6
URL:https://triatlonromania.ro/eveniment/trikids-aquatlon-by-sport-guru-pro-speed-2026/
LOCATION:Complex Sportiv National „Lia Manoliu”\, Bd. Basarabia 37-39\, Bucuresti\, 022103\, Romania
CATEGORIES:Etapa TRIKids
ATTACH;FMTTYPE=image/webp:https://triatlonromania.ro/wp-content/uploads/2025/12/TriKids-Aquatlon-2026.webp
END:VEVENT
BEGIN:VEVENT
DTSTART;VALUE=DATE:20260328
DTEND;VALUE=DATE:20260329
DTSTAMP:20260421T134855
CREATED:20251217T210925Z
LAST-MODIFIED:20251217T210925Z
UID:23512-1774656000-1774742399@triatlonromania.ro
SUMMARY:CN Cros Duatlon 2026
DESCRIPTION: • Tip competitie: Cros Duatlon • Organizator: Federația Română de Triatlon & Ride Competition • WebSite: ridecompetition.ro • Locatie: Iarcuri Cornești\, Timiș • Harta: maps.app.goo.gl/Mi5eW9qdWKGYod3t8
URL:https://triatlonromania.ro/eveniment/cn-cros-duatlon-2026/
LOCATION:Iarcuri Cornesti\, Timis\, Romania
CATEGORIES:Campionat National
ATTACH;FMTTYPE=image/webp:https://triatlonromania.ro/wp-content/uploads/2025/12/triro-cn-cros-duatlon-2026.webp
ORGANIZER;CN="ACS Ride Competition":MAILTO:info@timisoaratriathlon.ro
END:VEVENT
BEGIN:VEVENT
DTSTART;VALUE=DATE:20260328
DTEND;VALUE=DATE:20260329
DTSTAMP:20260421T134855
CREATED:20251217T211455Z
LAST-MODIFIED:20251217T211455Z
UID:24100-1774656000-1774742399@triatlonromania.ro
SUMMARY:TRIKids Duatlon 2026
DESCRIPTION: • Tip competitie: Duatlon • Organizator: Federația Română de Triatlon & Ride Competition • WebSite: ridecompetition.ro • Locatie: Iarcuri Cornești\, Timiș • Harta: maps.app.goo.gl/Mi5eW9qdWKGYod3t8
URL:https://triatlonromania.ro/eveniment/trikids-duatlon-2026/
LOCATION:Iarcuri Cornesti\, Timis\, Romania
CATEGORIES:Etapa TRIKids
ATTACH;FMTTYPE=image/webp:https://triatlonromania.ro/wp-content/uploads/2025/12/TriKids-Ride-Competition.webp
ORGANIZER;CN="ACS Ride Competition":MAILTO:info@timisoaratriathlon.ro
END:VEVENT
END:VCALENDAR